| Back to Multiple platform build/check report for BioC 3.8 | 
 | 
This page was generated on 2019-04-16 12:13:29 -0400 (Tue, 16 Apr 2019).
| Package 822/1649 | Hostname | OS / Arch | INSTALL | BUILD | CHECK | BUILD BIN | ||||||
| KinSwingR 1.0.3 Ashley J. Waardenberg 
 | malbec1 | Linux (Ubuntu 16.04.6 LTS) / x86_64 | OK | OK | OK |  | ||||||
| merida1 | OS X 10.11.6 El Capitan / x86_64 | OK | OK | OK | [ OK ] |  | 
| Package: KinSwingR | 
| Version: 1.0.3 | 
| Command: rm -rf KinSwingR.buildbin-libdir && mkdir KinSwingR.buildbin-libdir && /Users/biocbuild/BBS/utils/build-universal.sh KinSwingR_1.0.3.tar.gz /Library/Frameworks/R.framework/Versions/Current/Resources/bin/R KinSwingR.buildbin-libdir | 
| StartedAt: 2019-04-16 04:16:43 -0400 (Tue, 16 Apr 2019) | 
| EndedAt: 2019-04-16 04:17:27 -0400 (Tue, 16 Apr 2019) | 
| EllapsedTime: 43.8 seconds | 
| RetCode: 0 | 
| Status: OK | 
| PackageFile: KinSwingR_1.0.3.tgz | 
| PackageFileSize: 683.1 KiB | 
############################################################################## ############################################################################## ### ### Running command: ### ### rm -rf KinSwingR.buildbin-libdir && mkdir KinSwingR.buildbin-libdir && /Users/biocbuild/BBS/utils/build-universal.sh KinSwingR_1.0.3.tar.gz /Library/Frameworks/R.framework/Versions/Current/Resources/bin/R KinSwingR.buildbin-libdir ### ############################################################################## ############################################################################## >>>>>>> >>>>>>> INSTALLATION WITH 'R CMD INSTALL --preclean --no-multiarch --library=KinSwingR.buildbin-libdir KinSwingR_1.0.3.tar.gz' >>>>>>> * installing *source* package ‘KinSwingR’ ... ** R ** data *** moving datasets to lazyload DB ** inst ** byte-compile and prepare package for lazy loading ** help *** installing help indices ** building package indices ** installing vignettes ** testing if installed package can be loaded * DONE (KinSwingR)