| Back to Multiple platform build/check report for BioC 3.8 |
|
This page was generated on 2019-04-16 12:00:43 -0400 (Tue, 16 Apr 2019).
| Package 799/1649 | Hostname | OS / Arch | INSTALL | BUILD | CHECK | BUILD BIN | ||||||
| IsoformSwitchAnalyzeR 1.4.0 Kristoffer Vitting-Seerup
| malbec1 | Linux (Ubuntu 16.04.6 LTS) / x86_64 | OK | OK | WARNINGS | |||||||
| merida1 | OS X 10.11.6 El Capitan / x86_64 | OK | OK | WARNINGS | [ OK ] |
| Package: IsoformSwitchAnalyzeR |
| Version: 1.4.0 |
| Command: rm -rf IsoformSwitchAnalyzeR.buildbin-libdir && mkdir IsoformSwitchAnalyzeR.buildbin-libdir && /Users/biocbuild/BBS/utils/build-universal.sh IsoformSwitchAnalyzeR_1.4.0.tar.gz /Library/Frameworks/R.framework/Versions/Current/Resources/bin/R IsoformSwitchAnalyzeR.buildbin-libdir |
| StartedAt: 2019-04-16 04:15:42 -0400 (Tue, 16 Apr 2019) |
| EndedAt: 2019-04-16 04:16:27 -0400 (Tue, 16 Apr 2019) |
| EllapsedTime: 45.4 seconds |
| RetCode: 0 |
| Status: OK |
| PackageFile: IsoformSwitchAnalyzeR_1.4.0.tgz |
| PackageFileSize: 4.398 MiB |
############################################################################## ############################################################################## ### ### Running command: ### ### rm -rf IsoformSwitchAnalyzeR.buildbin-libdir && mkdir IsoformSwitchAnalyzeR.buildbin-libdir && /Users/biocbuild/BBS/utils/build-universal.sh IsoformSwitchAnalyzeR_1.4.0.tar.gz /Library/Frameworks/R.framework/Versions/Current/Resources/bin/R IsoformSwitchAnalyzeR.buildbin-libdir ### ############################################################################## ############################################################################## >>>>>>> >>>>>>> INSTALLATION WITH 'R CMD INSTALL --preclean --no-multiarch --library=IsoformSwitchAnalyzeR.buildbin-libdir IsoformSwitchAnalyzeR_1.4.0.tar.gz' >>>>>>> * installing *source* package ‘IsoformSwitchAnalyzeR’ ... ** libs clang -I"/Library/Frameworks/R.framework/Resources/include" -DNDEBUG -I/usr/local/include -fPIC -Wall -g -O2 -c utils.c -o utils.o clang -dynamiclib -Wl,-headerpad_max_install_names -undefined dynamic_lookup -single_module -multiply_defined suppress -L/Library/Frameworks/R.framework/Resources/lib -L/usr/local/lib -o IsoformSwitchAnalyzeR.so utils.o -F/Library/Frameworks/R.framework/.. -framework R -Wl,-framework -Wl,CoreFoundation installing to /Users/biocbuild/bbs-3.8-bioc/meat/IsoformSwitchAnalyzeR.buildbin-libdir/IsoformSwitchAnalyzeR/libs ** R ** data ** inst ** byte-compile and prepare package for lazy loading Warning: replacing previous import ‘DEXSeq::plotMA’ by ‘limma::plotMA’ when loading ‘IsoformSwitchAnalyzeR’ ** help *** installing help indices ** building package indices ** installing vignettes ** testing if installed package can be loaded Warning: replacing previous import ‘DEXSeq::plotMA’ by ‘limma::plotMA’ when loading ‘IsoformSwitchAnalyzeR’ * DONE (IsoformSwitchAnalyzeR) >>>>>>> >>>>>>> FIXING LINKS FOR IsoformSwitchAnalyzeR.buildbin-libdir/IsoformSwitchAnalyzeR/libs//IsoformSwitchAnalyzeR.so >>>>>>> install_name_tool -change "/usr/local/lib/libgcc_s.1.dylib" "/Library/Frameworks/R.framework/Versions/3.5/Resources/lib/libgcc_s.1.dylib" "IsoformSwitchAnalyzeR.buildbin-libdir/IsoformSwitchAnalyzeR/libs//IsoformSwitchAnalyzeR.so" install_name_tool -change "/usr/local/lib/libgfortran.3.dylib" "/Library/Frameworks/R.framework/Versions/3.5/Resources/lib/libgfortran.3.dylib" "IsoformSwitchAnalyzeR.buildbin-libdir/IsoformSwitchAnalyzeR/libs//IsoformSwitchAnalyzeR.so" install_name_tool -change "/usr/local/lib/libreadline.5.2.dylib" "/Library/Frameworks/R.framework/Versions/3.5/Resources/lib/libreadline.5.2.dylib" "IsoformSwitchAnalyzeR.buildbin-libdir/IsoformSwitchAnalyzeR/libs//IsoformSwitchAnalyzeR.so" install_name_tool -change "/usr/local/lib/libreadline.dylib" "/Library/Frameworks/R.framework/Versions/3.5/Resources/lib/libreadline.dylib" "IsoformSwitchAnalyzeR.buildbin-libdir/IsoformSwitchAnalyzeR/libs//IsoformSwitchAnalyzeR.so" install_name_tool -change "/usr/local/lib/libquadmath.0.dylib" "/Library/Frameworks/R.framework/Versions/3.5/Resources/lib/libquadmath.0.dylib" "IsoformSwitchAnalyzeR.buildbin-libdir/IsoformSwitchAnalyzeR/libs//IsoformSwitchAnalyzeR.so"