| Back to Multiple platform build/check report for BioC 3.8 |
|
This page was generated on 2019-04-13 11:29:43 -0400 (Sat, 13 Apr 2019).
| Package 798/1649 | Hostname | OS / Arch | INSTALL | BUILD | CHECK | BUILD BIN | ||||||
| IsoCorrectoR 1.0.5 Christian Kohler
| malbec1 | Linux (Ubuntu 16.04.6 LTS) / x86_64 | OK | OK | OK | |||||||
| tokay1 | Windows Server 2012 R2 Standard / x64 | OK | OK | OK | [ OK ] | |||||||
| merida1 | OS X 10.11.6 El Capitan / x86_64 | OK | OK | OK | OK |
| Package: IsoCorrectoR |
| Version: 1.0.5 |
| Command: rm -rf IsoCorrectoR.buildbin-libdir && mkdir IsoCorrectoR.buildbin-libdir && C:\Users\biocbuild\bbs-3.8-bioc\R\bin\R.exe CMD INSTALL --merge-multiarch --build --library=IsoCorrectoR.buildbin-libdir IsoCorrectoR_1.0.5.tar.gz |
| StartedAt: 2019-04-13 07:32:59 -0400 (Sat, 13 Apr 2019) |
| EndedAt: 2019-04-13 07:35:59 -0400 (Sat, 13 Apr 2019) |
| EllapsedTime: 180.7 seconds |
| RetCode: 0 |
| Status: OK |
| PackageFile: IsoCorrectoR_1.0.5.zip |
| PackageFileSize: 2.093 MiB |
##############################################################################
##############################################################################
###
### Running command:
###
### rm -rf IsoCorrectoR.buildbin-libdir && mkdir IsoCorrectoR.buildbin-libdir && C:\Users\biocbuild\bbs-3.8-bioc\R\bin\R.exe CMD INSTALL --merge-multiarch --build --library=IsoCorrectoR.buildbin-libdir IsoCorrectoR_1.0.5.tar.gz
###
##############################################################################
##############################################################################
install for i386
* installing *source* package 'IsoCorrectoR' ...
** R
** data
*** moving datasets to lazyload DB
** inst
** byte-compile and prepare package for lazy loading
** help
*** installing help indices
converting help for package 'IsoCorrectoR'
finding HTML links ... done
IsoCorrection html
IsoCorrectoR html
** building package indices
** installing vignettes
** testing if installed package can be loaded
In R CMD INSTALL
install for x64
* installing *source* package 'IsoCorrectoR' ...
** testing if installed package can be loaded
* MD5 sums
packaged installation of 'IsoCorrectoR' as IsoCorrectoR_1.0.5.zip
* DONE (IsoCorrectoR)
In R CMD INSTALL
In R CMD INSTALL