| Back to Multiple platform build/check report for BioC 3.8 |
|
This page was generated on 2019-04-16 12:00:58 -0400 (Tue, 16 Apr 2019).
| Package 785/1649 | Hostname | OS / Arch | INSTALL | BUILD | CHECK | BUILD BIN | ||||||
| InterMineR 1.4.1 InterMine Team
| malbec1 | Linux (Ubuntu 16.04.6 LTS) / x86_64 | OK | OK | OK | |||||||
| merida1 | OS X 10.11.6 El Capitan / x86_64 | OK | OK | OK | [ OK ] |
| Package: InterMineR |
| Version: 1.4.1 |
| Command: rm -rf InterMineR.buildbin-libdir && mkdir InterMineR.buildbin-libdir && /Users/biocbuild/BBS/utils/build-universal.sh InterMineR_1.4.1.tar.gz /Library/Frameworks/R.framework/Versions/Current/Resources/bin/R InterMineR.buildbin-libdir |
| StartedAt: 2019-04-16 04:15:06 -0400 (Tue, 16 Apr 2019) |
| EndedAt: 2019-04-16 04:15:50 -0400 (Tue, 16 Apr 2019) |
| EllapsedTime: 43.5 seconds |
| RetCode: 0 |
| Status: OK |
| PackageFile: InterMineR_1.4.1.tgz |
| PackageFileSize: 5.25 MiB |
############################################################################## ############################################################################## ### ### Running command: ### ### rm -rf InterMineR.buildbin-libdir && mkdir InterMineR.buildbin-libdir && /Users/biocbuild/BBS/utils/build-universal.sh InterMineR_1.4.1.tar.gz /Library/Frameworks/R.framework/Versions/Current/Resources/bin/R InterMineR.buildbin-libdir ### ############################################################################## ############################################################################## >>>>>>> >>>>>>> INSTALLATION WITH 'R CMD INSTALL --preclean --no-multiarch --library=InterMineR.buildbin-libdir InterMineR_1.4.1.tar.gz' >>>>>>> * installing *source* package ‘InterMineR’ ... ** R ** data *** moving datasets to lazyload DB ** inst ** byte-compile and prepare package for lazy loading ** help *** installing help indices ** building package indices ** installing vignettes ** testing if installed package can be loaded * DONE (InterMineR)