Back to Multiple platform build/check report for BioC 3.8 |
|
This page was generated on 2019-04-13 11:26:43 -0400 (Sat, 13 Apr 2019).
Package 769/1649 | Hostname | OS / Arch | INSTALL | BUILD | CHECK | BUILD BIN | ||||||
ImmuneSpaceR 1.10.5 ImmuneSpace Package Maintainer
| malbec1 | Linux (Ubuntu 16.04.6 LTS) / x86_64 | OK | OK | OK | ![]() | ||||||
tokay1 | Windows Server 2012 R2 Standard / x64 | [ OK ] | OK | WARNINGS | OK | ![]() | ||||||
merida1 | OS X 10.11.6 El Capitan / x86_64 | OK | OK | OK | OK | ![]() |
Package: ImmuneSpaceR |
Version: 1.10.5 |
Command: C:\cygwin\bin\curl.exe -O https://malbec1.bioconductor.org/BBS/3.8/bioc/src/contrib/ImmuneSpaceR_1.10.5.tar.gz && rm -rf ImmuneSpaceR.buildbin-libdir && mkdir ImmuneSpaceR.buildbin-libdir && C:\Users\biocbuild\bbs-3.8-bioc\R\bin\R.exe CMD INSTALL --merge-multiarch --build --library=ImmuneSpaceR.buildbin-libdir ImmuneSpaceR_1.10.5.tar.gz && C:\Users\biocbuild\bbs-3.8-bioc\R\bin\R.exe CMD INSTALL ImmuneSpaceR_1.10.5.zip && rm ImmuneSpaceR_1.10.5.tar.gz ImmuneSpaceR_1.10.5.zip |
StartedAt: 2019-04-12 20:32:40 -0400 (Fri, 12 Apr 2019) |
EndedAt: 2019-04-12 20:33:31 -0400 (Fri, 12 Apr 2019) |
EllapsedTime: 50.9 seconds |
RetCode: 0 |
Status: OK |
############################################################################## ############################################################################## ### ### Running command: ### ### C:\cygwin\bin\curl.exe -O https://malbec1.bioconductor.org/BBS/3.8/bioc/src/contrib/ImmuneSpaceR_1.10.5.tar.gz && rm -rf ImmuneSpaceR.buildbin-libdir && mkdir ImmuneSpaceR.buildbin-libdir && C:\Users\biocbuild\bbs-3.8-bioc\R\bin\R.exe CMD INSTALL --merge-multiarch --build --library=ImmuneSpaceR.buildbin-libdir ImmuneSpaceR_1.10.5.tar.gz && C:\Users\biocbuild\bbs-3.8-bioc\R\bin\R.exe CMD INSTALL ImmuneSpaceR_1.10.5.zip && rm ImmuneSpaceR_1.10.5.tar.gz ImmuneSpaceR_1.10.5.zip ### ############################################################################## ############################################################################## % Total % Received % Xferd Average Speed Time Time Time Current Dload Upload Total Spent Left Speed 0 0 0 0 0 0 0 0 --:--:-- --:--:-- --:--:-- 0 34 966k 34 336k 0 0 1246k 0 --:--:-- --:--:-- --:--:-- 1258k 100 966k 100 966k 0 0 3506k 0 --:--:-- --:--:-- --:--:-- 3541k install for i386 * installing *source* package 'ImmuneSpaceR' ... ** R ** inst ** byte-compile and prepare package for lazy loading ** help *** installing help indices converting help for package 'ImmuneSpaceR' finding HTML links ... done CreateConnection html ISpalette html ImmuneSpaceConnection html Rd warning: C:/Users/biocbuild/bbs-3.8-bioc/tmpdir/RtmpslX3fk/R.INSTALL21d819976ca8/ImmuneSpaceR/man/ImmuneSpaceConnection.Rd:118: file link 'load_gs' in package 'flowWorkspace' does not exist and so has been treated as a topic ImmuneSpaceR-package html check_netrc html interactive_netrc html loadConnection html template_IS html theme_IS html write_netrc html *** copying figures ** building package indices ** installing vignettes ** testing if installed package can be loaded In R CMD INSTALL install for x64 * installing *source* package 'ImmuneSpaceR' ... ** testing if installed package can be loaded * MD5 sums packaged installation of 'ImmuneSpaceR' as ImmuneSpaceR_1.10.5.zip * DONE (ImmuneSpaceR) In R CMD INSTALL In R CMD INSTALL * installing to library 'C:/Users/biocbuild/bbs-3.8-bioc/R/library' package 'ImmuneSpaceR' successfully unpacked and MD5 sums checked In R CMD INSTALL