| Back to Multiple platform build/check report for BioC 3.8 |
|
This page was generated on 2019-04-13 11:24:35 -0400 (Sat, 13 Apr 2019).
| Package 771/1649 | Hostname | OS / Arch | INSTALL | BUILD | CHECK | BUILD BIN | ||||||
| IMPCdata 1.18.0 Jeremy Mason
| malbec1 | Linux (Ubuntu 16.04.6 LTS) / x86_64 | OK | OK | OK | |||||||
| tokay1 | Windows Server 2012 R2 Standard / x64 | OK | OK | OK | [ OK ] | |||||||
| merida1 | OS X 10.11.6 El Capitan / x86_64 | OK | OK | OK | OK |
| Package: IMPCdata |
| Version: 1.18.0 |
| Command: rm -rf IMPCdata.buildbin-libdir && mkdir IMPCdata.buildbin-libdir && C:\Users\biocbuild\bbs-3.8-bioc\R\bin\R.exe CMD INSTALL --merge-multiarch --build --library=IMPCdata.buildbin-libdir IMPCdata_1.18.0.tar.gz |
| StartedAt: 2019-04-13 07:31:47 -0400 (Sat, 13 Apr 2019) |
| EndedAt: 2019-04-13 07:31:56 -0400 (Sat, 13 Apr 2019) |
| EllapsedTime: 8.6 seconds |
| RetCode: 0 |
| Status: OK |
| PackageFile: IMPCdata_1.18.0.zip |
| PackageFileSize: 225.2 KiB |
##############################################################################
##############################################################################
###
### Running command:
###
### rm -rf IMPCdata.buildbin-libdir && mkdir IMPCdata.buildbin-libdir && C:\Users\biocbuild\bbs-3.8-bioc\R\bin\R.exe CMD INSTALL --merge-multiarch --build --library=IMPCdata.buildbin-libdir IMPCdata_1.18.0.tar.gz
###
##############################################################################
##############################################################################
install for i386
* installing *source* package 'IMPCdata' ...
** R
** inst
** byte-compile and prepare package for lazy loading
** help
*** installing help indices
converting help for package 'IMPCdata'
finding HTML links ... done
getAlleles html
getGenes html
getIMPCDataset html
getIMPCTable html
getName html
getParameters html
getPhenCenters html
getPipelines html
getProcedures html
getStrains html
getZygosities html
printAlleles html
printGenes html
printParameters html
printPhenCenters html
printPipelines html
printProcedures html
printStrains html
** building package indices
** installing vignettes
** testing if installed package can be loaded
In R CMD INSTALL
install for x64
* installing *source* package 'IMPCdata' ...
** testing if installed package can be loaded
* MD5 sums
packaged installation of 'IMPCdata' as IMPCdata_1.18.0.zip
* DONE (IMPCdata)
In R CMD INSTALL
In R CMD INSTALL