| Back to Multiple platform build/check report for BioC 3.8 |
|
This page was generated on 2019-04-13 11:27:46 -0400 (Sat, 13 Apr 2019).
| Package 766/1649 | Hostname | OS / Arch | INSTALL | BUILD | CHECK | BUILD BIN | ||||||
| IMAS 1.6.1 Seonggyun Han
| malbec1 | Linux (Ubuntu 16.04.6 LTS) / x86_64 | OK | OK | OK | |||||||
| tokay1 | Windows Server 2012 R2 Standard / x64 | OK | OK | OK | [ OK ] | |||||||
| merida1 | OS X 10.11.6 El Capitan / x86_64 | OK | OK | OK | OK |
| Package: IMAS |
| Version: 1.6.1 |
| Command: rm -rf IMAS.buildbin-libdir && mkdir IMAS.buildbin-libdir && C:\Users\biocbuild\bbs-3.8-bioc\R\bin\R.exe CMD INSTALL --merge-multiarch --build --library=IMAS.buildbin-libdir IMAS_1.6.1.tar.gz |
| StartedAt: 2019-04-13 07:31:38 -0400 (Sat, 13 Apr 2019) |
| EndedAt: 2019-04-13 07:32:39 -0400 (Sat, 13 Apr 2019) |
| EllapsedTime: 61.2 seconds |
| RetCode: 0 |
| Status: OK |
| PackageFile: IMAS_1.6.1.zip |
| PackageFileSize: 787.1 KiB |
##############################################################################
##############################################################################
###
### Running command:
###
### rm -rf IMAS.buildbin-libdir && mkdir IMAS.buildbin-libdir && C:\Users\biocbuild\bbs-3.8-bioc\R\bin\R.exe CMD INSTALL --merge-multiarch --build --library=IMAS.buildbin-libdir IMAS_1.6.1.tar.gz
###
##############################################################################
##############################################################################
install for i386
* installing *source* package 'IMAS' ...
** R
** data
** inst
** byte-compile and prepare package for lazy loading
** help
*** installing help indices
converting help for package 'IMAS'
finding HTML links ... done
ASvisualization html
finding level-2 HTML links ... done
ClinicAnalysis html
Clinical.data html
CompGroupAlt html
ExonsCluster html
GroupSam html
IMAS-package html
MEsQTLFinder html
RatioFromReads html
SplicingReads html
sampleMedata html
sampleMelocus html
samplebamfiles html
samplesnp html
samplesnplocus html
** building package indices
** installing vignettes
** testing if installed package can be loaded
In R CMD INSTALL
install for x64
* installing *source* package 'IMAS' ...
** testing if installed package can be loaded
* MD5 sums
packaged installation of 'IMAS' as IMAS_1.6.1.zip
* DONE (IMAS)
In R CMD INSTALL
In R CMD INSTALL