| Back to Multiple platform build/check report for BioC 3.8 |
|
This page was generated on 2019-04-16 11:56:19 -0400 (Tue, 16 Apr 2019).
| Package 729/1649 | Hostname | OS / Arch | INSTALL | BUILD | CHECK | BUILD BIN | ||||||
| HiTC 1.26.0 Nicolas Servant
| malbec1 | Linux (Ubuntu 16.04.6 LTS) / x86_64 | OK | OK | OK | |||||||
| merida1 | OS X 10.11.6 El Capitan / x86_64 | OK | OK | OK | [ OK ] |
| Package: HiTC |
| Version: 1.26.0 |
| Command: rm -rf HiTC.buildbin-libdir && mkdir HiTC.buildbin-libdir && /Users/biocbuild/BBS/utils/build-universal.sh HiTC_1.26.0.tar.gz /Library/Frameworks/R.framework/Versions/Current/Resources/bin/R HiTC.buildbin-libdir |
| StartedAt: 2019-04-16 04:12:35 -0400 (Tue, 16 Apr 2019) |
| EndedAt: 2019-04-16 04:13:19 -0400 (Tue, 16 Apr 2019) |
| EllapsedTime: 43.7 seconds |
| RetCode: 0 |
| Status: OK |
| PackageFile: HiTC_1.26.0.tgz |
| PackageFileSize: 3.692 MiB |
############################################################################## ############################################################################## ### ### Running command: ### ### rm -rf HiTC.buildbin-libdir && mkdir HiTC.buildbin-libdir && /Users/biocbuild/BBS/utils/build-universal.sh HiTC_1.26.0.tar.gz /Library/Frameworks/R.framework/Versions/Current/Resources/bin/R HiTC.buildbin-libdir ### ############################################################################## ############################################################################## >>>>>>> >>>>>>> INSTALLATION WITH 'R CMD INSTALL --preclean --no-multiarch --library=HiTC.buildbin-libdir HiTC_1.26.0.tar.gz' >>>>>>> * installing *source* package ‘HiTC’ ... ** R ** data ** inst ** byte-compile and prepare package for lazy loading ** help *** installing help indices ** building package indices ** installing vignettes ** testing if installed package can be loaded * DONE (HiTC)