| Back to Multiple platform build/check report for BioC 3.8 |
|
This page was generated on 2019-04-13 11:29:49 -0400 (Sat, 13 Apr 2019).
| Package 718/1649 | Hostname | OS / Arch | INSTALL | BUILD | CHECK | BUILD BIN | ||||||
| HiCBricks 1.0.0 Koustav Pal
| malbec1 | Linux (Ubuntu 16.04.6 LTS) / x86_64 | OK | OK | OK | |||||||
| tokay1 | Windows Server 2012 R2 Standard / x64 | OK | OK | OK | [ OK ] | |||||||
| merida1 | OS X 10.11.6 El Capitan / x86_64 | OK | OK | OK | OK |
| Package: HiCBricks |
| Version: 1.0.0 |
| Command: rm -rf HiCBricks.buildbin-libdir && mkdir HiCBricks.buildbin-libdir && C:\Users\biocbuild\bbs-3.8-bioc\R\bin\R.exe CMD INSTALL --merge-multiarch --build --library=HiCBricks.buildbin-libdir HiCBricks_1.0.0.tar.gz |
| StartedAt: 2019-04-13 07:27:59 -0400 (Sat, 13 Apr 2019) |
| EndedAt: 2019-04-13 07:30:28 -0400 (Sat, 13 Apr 2019) |
| EllapsedTime: 149.3 seconds |
| RetCode: 0 |
| Status: OK |
| PackageFile: HiCBricks_1.0.0.zip |
| PackageFileSize: 3.487 MiB |
##############################################################################
##############################################################################
###
### Running command:
###
### rm -rf HiCBricks.buildbin-libdir && mkdir HiCBricks.buildbin-libdir && C:\Users\biocbuild\bbs-3.8-bioc\R\bin\R.exe CMD INSTALL --merge-multiarch --build --library=HiCBricks.buildbin-libdir HiCBricks_1.0.0.tar.gz
###
##############################################################################
##############################################################################
install for i386
* installing *source* package 'HiCBricks' ...
** R
** inst
** byte-compile and prepare package for lazy loading
** help
*** installing help indices
converting help for package 'HiCBricks'
finding HTML links ... done
Brick_add_ranges html
Brick_fetch_range_index html
Brick_fetch_row_vector html
Brick_get_bintable html
Brick_get_chrominfo html
Brick_get_matrix html
Brick_get_matrix_mcols html
Brick_get_matrix_within_coords html
Brick_get_ranges html
Brick_get_values_by_distance html
Brick_get_vector_values html
Brick_is_tracked html
Brick_list_matrices html
Brick_list_matrix_mcols html
Brick_list_mcool_normalisations html
Brick_list_mcool_resolutions html
Brick_list_rangekeys html
Brick_list_ranges_mcols html
Brick_list_tracked_bricks html
Brick_load_cis_matrix_till_distance html
Brick_load_data_from_mcool html
Brick_load_matrix html
Brick_local_score_differentiator html
Brick_make_ranges html
Brick_matrix_dimensions html
Brick_matrix_exists html
Brick_matrix_filename html
Brick_matrix_isdone html
Brick_matrix_issparse html
Brick_matrix_maxdist html
Brick_matrix_minmax html
Brick_mcool_normalisation_exists html
Brick_path_to_file html
Brick_rangekey_exists html
Brick_return_region_position html
Brick_track_bricks html
Brick_untrack_brick html
Brick_vizart_plot_heatmap html
CreateBrick html
CreateBrick_from_mcool html
HiCBricks html
** building package indices
** installing vignettes
** testing if installed package can be loaded
In R CMD INSTALL
install for x64
* installing *source* package 'HiCBricks' ...
** testing if installed package can be loaded
* MD5 sums
packaged installation of 'HiCBricks' as HiCBricks_1.0.0.zip
* DONE (HiCBricks)
In R CMD INSTALL
In R CMD INSTALL