| Back to Multiple platform build/check report for BioC 3.8 | 
 | 
This page was generated on 2019-04-16 11:48:11 -0400 (Tue, 16 Apr 2019).
| Package 712/1649 | Hostname | OS / Arch | INSTALL | BUILD | CHECK | BUILD BIN | ||||||
| Heatplus 2.28.0 Alexander Ploner 
 | malbec1 | Linux (Ubuntu 16.04.6 LTS) / x86_64 | OK | [ OK ] | OK |  | ||||||
| merida1 | OS X 10.11.6 El Capitan / x86_64 | OK | OK | OK | OK |  | 
| Package: Heatplus | 
| Version: 2.28.0 | 
| Command: /home/biocbuild/bbs-3.8-bioc/R/bin/R CMD build --keep-empty-dirs --no-resave-data Heatplus | 
| StartedAt: 2019-04-15 18:41:24 -0400 (Mon, 15 Apr 2019) | 
| EndedAt: 2019-04-15 18:41:37 -0400 (Mon, 15 Apr 2019) | 
| EllapsedTime: 13.0 seconds | 
| RetCode: 0 | 
| Status: OK | 
| PackageFile: Heatplus_2.28.0.tar.gz | 
| PackageFileSize: 867.2 KiB | 
##############################################################################
##############################################################################
###
### Running command:
###
###   /home/biocbuild/bbs-3.8-bioc/R/bin/R CMD build --keep-empty-dirs --no-resave-data Heatplus
###
##############################################################################
##############################################################################
* checking for file ‘Heatplus/DESCRIPTION’ ... OK
* preparing ‘Heatplus’:
* checking DESCRIPTION meta-information ... OK
* installing the package to build vignettes
* creating vignettes ... OK
Warning: ‘inst/doc’ file
    ‘annHeatmapCommentedSource.R’
  ignored as vignettes have been rebuilt.
  Run R CMD build with --no-build-vignettes to prevent rebuilding.
* checking for LF line-endings in source and make files and shell scripts
* checking for empty or unneeded directories
* building ‘Heatplus_2.28.0.tar.gz’