| Back to Multiple platform build/check report for BioC 3.8 | 
 | 
This page was generated on 2019-04-16 11:54:47 -0400 (Tue, 16 Apr 2019).
| Package 679/1649 | Hostname | OS / Arch | INSTALL | BUILD | CHECK | BUILD BIN | ||||||
| GraphAlignment 1.46.0 Joern P. Meier 
 | malbec1 | Linux (Ubuntu 16.04.6 LTS) / x86_64 | OK | OK | OK |  | ||||||
| merida1 | OS X 10.11.6 El Capitan / x86_64 | OK | OK | OK | [ OK ] |  | 
| Package: GraphAlignment | 
| Version: 1.46.0 | 
| Command: rm -rf GraphAlignment.buildbin-libdir && mkdir GraphAlignment.buildbin-libdir && /Users/biocbuild/BBS/utils/build-universal.sh GraphAlignment_1.46.0.tar.gz /Library/Frameworks/R.framework/Versions/Current/Resources/bin/R GraphAlignment.buildbin-libdir | 
| StartedAt: 2019-04-16 04:10:13 -0400 (Tue, 16 Apr 2019) | 
| EndedAt: 2019-04-16 04:10:53 -0400 (Tue, 16 Apr 2019) | 
| EllapsedTime: 40.5 seconds | 
| RetCode: 0 | 
| Status: OK | 
| PackageFile: GraphAlignment_1.46.0.tgz | 
| PackageFileSize: 414.2 KiB | 
##############################################################################
##############################################################################
###
### Running command:
###
###   rm -rf GraphAlignment.buildbin-libdir && mkdir GraphAlignment.buildbin-libdir && /Users/biocbuild/BBS/utils/build-universal.sh GraphAlignment_1.46.0.tar.gz /Library/Frameworks/R.framework/Versions/Current/Resources/bin/R GraphAlignment.buildbin-libdir
###
##############################################################################
##############################################################################
>>>>>>> 
>>>>>>> INSTALLATION WITH 'R CMD INSTALL --preclean --no-multiarch --library=GraphAlignment.buildbin-libdir GraphAlignment_1.46.0.tar.gz'
>>>>>>> 
* installing *source* package ‘GraphAlignment’ ...
** libs
clang -I"/Library/Frameworks/R.framework/Resources/include" -DNDEBUG   -I/usr/local/include   -fPIC  -Wall -g -O2  -c GA_alloc.c -o GA_alloc.o
clang -I"/Library/Frameworks/R.framework/Resources/include" -DNDEBUG   -I/usr/local/include   -fPIC  -Wall -g -O2  -c GA_matrix.c -o GA_matrix.o
clang -I"/Library/Frameworks/R.framework/Resources/include" -DNDEBUG   -I/usr/local/include   -fPIC  -Wall -g -O2  -c GA_matrix_R.c -o GA_matrix_R.o
clang -I"/Library/Frameworks/R.framework/Resources/include" -DNDEBUG   -I/usr/local/include   -fPIC  -Wall -g -O2  -c GA_message.c -o GA_message.o
clang -I"/Library/Frameworks/R.framework/Resources/include" -DNDEBUG   -I/usr/local/include   -fPIC  -Wall -g -O2  -c GA_vector.c -o GA_vector.o
clang -I"/Library/Frameworks/R.framework/Resources/include" -DNDEBUG   -I/usr/local/include   -fPIC  -Wall -g -O2  -c GA_vector_R.c -o GA_vector_R.o
GA_vector_R.c:139:9: warning: unused variable 'size' [-Wunused-variable]
    int size = LENGTH(robj);
        ^
1 warning generated.
clang -I"/Library/Frameworks/R.framework/Resources/include" -DNDEBUG   -I/usr/local/include   -fPIC  -Wall -g -O2  -c GraphAlignment.c -o GraphAlignment.o
GraphAlignment.c:143:23: warning: add explicit braces to avoid dangling else [-Wdangling-else]
                    } else
                      ^
GraphAlignment.c:164:23: warning: add explicit braces to avoid dangling else [-Wdangling-else]
                    } else
                      ^
GraphAlignment.c:264:9: warning: unused variable 'size' [-Wunused-variable]
    int size = LENGTH(robj);
        ^
3 warnings generated.
clang -I"/Library/Frameworks/R.framework/Resources/include" -DNDEBUG   -I/usr/local/include   -fPIC  -Wall -g -O2  -c lap.c -o lap.o
clang -dynamiclib -Wl,-headerpad_max_install_names -undefined dynamic_lookup -single_module -multiply_defined suppress -L/Library/Frameworks/R.framework/Resources/lib -L/usr/local/lib -o GraphAlignment.so GA_alloc.o GA_matrix.o GA_matrix_R.o GA_message.o GA_vector.o GA_vector_R.o GraphAlignment.o lap.o -F/Library/Frameworks/R.framework/.. -framework R -Wl,-framework -Wl,CoreFoundation
installing to /Users/biocbuild/bbs-3.8-bioc/meat/GraphAlignment.buildbin-libdir/GraphAlignment/libs
** R
** inst
** byte-compile and prepare package for lazy loading
** help
*** installing help indices
** building package indices
** installing vignettes
** testing if installed package can be loaded
* DONE (GraphAlignment)
>>>>>>> 
>>>>>>> FIXING LINKS FOR GraphAlignment.buildbin-libdir/GraphAlignment/libs//GraphAlignment.so
>>>>>>> 
install_name_tool -change "/usr/local/lib/libgcc_s.1.dylib" "/Library/Frameworks/R.framework/Versions/3.5/Resources/lib/libgcc_s.1.dylib" "GraphAlignment.buildbin-libdir/GraphAlignment/libs//GraphAlignment.so"
install_name_tool -change "/usr/local/lib/libgfortran.3.dylib" "/Library/Frameworks/R.framework/Versions/3.5/Resources/lib/libgfortran.3.dylib" "GraphAlignment.buildbin-libdir/GraphAlignment/libs//GraphAlignment.so"
install_name_tool -change "/usr/local/lib/libreadline.5.2.dylib" "/Library/Frameworks/R.framework/Versions/3.5/Resources/lib/libreadline.5.2.dylib" "GraphAlignment.buildbin-libdir/GraphAlignment/libs//GraphAlignment.so"
install_name_tool -change "/usr/local/lib/libreadline.dylib" "/Library/Frameworks/R.framework/Versions/3.5/Resources/lib/libreadline.dylib" "GraphAlignment.buildbin-libdir/GraphAlignment/libs//GraphAlignment.so"
install_name_tool -change "/usr/local/lib/libquadmath.0.dylib" "/Library/Frameworks/R.framework/Versions/3.5/Resources/lib/libquadmath.0.dylib" "GraphAlignment.buildbin-libdir/GraphAlignment/libs//GraphAlignment.so"