| Back to Multiple platform build/check report for BioC 3.8 | 
 | 
This page was generated on 2019-04-16 11:55:08 -0400 (Tue, 16 Apr 2019).
| Package 631/1649 | Hostname | OS / Arch | INSTALL | BUILD | CHECK | BUILD BIN | ||||||
| Genominator 1.36.0 James Bullard 
 | malbec1 | Linux (Ubuntu 16.04.6 LTS) / x86_64 | OK | OK | OK |  | ||||||
| merida1 | OS X 10.11.6 El Capitan / x86_64 | OK | OK | OK | [ OK ] |  | 
| Package: Genominator | 
| Version: 1.36.0 | 
| Command: rm -rf Genominator.buildbin-libdir && mkdir Genominator.buildbin-libdir && /Users/biocbuild/BBS/utils/build-universal.sh Genominator_1.36.0.tar.gz /Library/Frameworks/R.framework/Versions/Current/Resources/bin/R Genominator.buildbin-libdir | 
| StartedAt: 2019-04-16 04:08:00 -0400 (Tue, 16 Apr 2019) | 
| EndedAt: 2019-04-16 04:08:39 -0400 (Tue, 16 Apr 2019) | 
| EllapsedTime: 39.0 seconds | 
| RetCode: 0 | 
| Status: OK | 
| PackageFile: Genominator_1.36.0.tgz | 
| PackageFileSize: 2.376 MiB | 
############################################################################## ############################################################################## ### ### Running command: ### ### rm -rf Genominator.buildbin-libdir && mkdir Genominator.buildbin-libdir && /Users/biocbuild/BBS/utils/build-universal.sh Genominator_1.36.0.tar.gz /Library/Frameworks/R.framework/Versions/Current/Resources/bin/R Genominator.buildbin-libdir ### ############################################################################## ############################################################################## >>>>>>> >>>>>>> INSTALLATION WITH 'R CMD INSTALL --preclean --no-multiarch --library=Genominator.buildbin-libdir Genominator_1.36.0.tar.gz' >>>>>>> * installing *source* package ‘Genominator’ ... ** R ** data ** inst ** byte-compile and prepare package for lazy loading ** help *** installing help indices ** building package indices ** installing vignettes ** testing if installed package can be loaded * DONE (Genominator)