This page was generated on 2019-04-16 11:51:59 -0400 (Tue, 16 Apr 2019).
GenoGAM 2.0.3 Georg Stricker
Snapshot Date: 2019-04-15 17:01:12 -0400 (Mon, 15 Apr 2019) |
URL: https://git.bioconductor.org/packages/GenoGAM |
Branch: RELEASE_3_8 |
Last Commit: bb9cd4a |
Last Changed Date: 2019-03-19 18:01:09 -0400 (Tue, 19 Mar 2019) |
| malbec1 | Linux (Ubuntu 16.04.6 LTS) / x86_64 | OK | OK | [ WARNINGS ] | | ![UNNEEDED, same version exists in internal repository UNNEEDED, same version exists in internal repository](../120px-Blue_Light_Icon.svg.png) |
merida1 | OS X 10.11.6 El Capitan / x86_64 | OK | OK | WARNINGS | OK | ![UNNEEDED, same version exists in internal repository UNNEEDED, same version exists in internal repository](../120px-Blue_Light_Icon.svg.png) |
R version 3.5.3 (2019-03-11) -- "Great Truth"
Copyright (C) 2019 The R Foundation for Statistical Computing
Platform: x86_64-pc-linux-gnu (64-bit)
R is free software and comes with ABSOLUTELY NO WARRANTY.
You are welcome to redistribute it under certain conditions.
Type 'license()' or 'licence()' for distribution details.
R is a collaborative project with many contributors.
Type 'contributors()' for more information and
'citation()' on how to cite R or R packages in publications.
Type 'demo()' for some demos, 'help()' for on-line help, or
'help.start()' for an HTML browser interface to help.
Type 'q()' to quit R.
> library(testthat)
> library(GenoGAM)
Loading required package: SummarizedExperiment
Loading required package: GenomicRanges
Loading required package: stats4
Loading required package: BiocGenerics
Loading required package: parallel
Attaching package: 'BiocGenerics'
The following objects are masked from 'package:parallel':
clusterApply, clusterApplyLB, clusterCall, clusterEvalQ,
clusterExport, clusterMap, parApply, parCapply, parLapply,
parLapplyLB, parRapply, parSapply, parSapplyLB
The following objects are masked from 'package:stats':
IQR, mad, sd, var, xtabs
The following objects are masked from 'package:base':
Filter, Find, Map, Position, Reduce, anyDuplicated, append,
as.data.frame, basename, cbind, colMeans, colSums, colnames,
dirname, do.call, duplicated, eval, evalq, get, grep, grepl,
intersect, is.unsorted, lapply, lengths, mapply, match, mget,
order, paste, pmax, pmax.int, pmin, pmin.int, rank, rbind,
rowMeans, rowSums, rownames, sapply, setdiff, sort, table, tapply,
union, unique, unsplit, which, which.max, which.min
Loading required package: S4Vectors
Attaching package: 'S4Vectors'
The following object is masked from 'package:base':
expand.grid
Loading required package: IRanges
Loading required package: GenomeInfoDb
Loading required package: Biobase
Welcome to Bioconductor
Vignettes contain introductory material; view with
'browseVignettes()'. To cite Bioconductor, see
'citation("Biobase")', and for packages 'citation("pkgname")'.
Loading required package: DelayedArray
Loading required package: matrixStats
Attaching package: 'matrixStats'
The following objects are masked from 'package:Biobase':
anyMissing, rowMedians
Loading required package: BiocParallel
Attaching package: 'DelayedArray'
The following objects are masked from 'package:matrixStats':
colMaxs, colMins, colRanges, rowMaxs, rowMins, rowRanges
The following objects are masked from 'package:base':
aperm, apply
Loading required package: HDF5Array
Loading required package: rhdf5
Loading required package: Matrix
Attaching package: 'Matrix'
The following object is masked from 'package:S4Vectors':
expand
Loading required package: data.table
Attaching package: 'data.table'
The following object is masked from 'package:SummarizedExperiment':
shift
The following object is masked from 'package:GenomicRanges':
shift
The following object is masked from 'package:IRanges':
shift
The following objects are masked from 'package:S4Vectors':
first, second
>
> test_check("GenoGAM")
INFO [2019-04-16 00:15:06] Creating GenoGAMDataSet
INFO [2019-04-16 00:15:07] GenoGAMDataSet created
INFO [2019-04-16 00:15:07] Creating GenoGAMDataSet
INFO [2019-04-16 00:15:07] Creating GenoGAMDataSet
INFO [2019-04-16 00:15:07] Creating GenoGAMDataSet
INFO [2019-04-16 00:15:07] Creating GenoGAMDataSet
INFO [2019-04-16 00:15:07] Creating GenoGAMDataSet
INFO [2019-04-16 00:15:08] Reading in data
INFO [2019-04-16 00:15:08] Reading in wt_1
INFO [2019-04-16 00:15:10] Reading in wt_2
INFO [2019-04-16 00:15:10] Reading in mutant_1
INFO [2019-04-16 00:15:11] Reading in mutant_2
INFO [2019-04-16 00:15:11] Finished reading in data
INFO [2019-04-16 00:15:11] GenoGAMDataSet created
INFO [2019-04-16 00:15:11] Creating GenoGAMDataSet
INFO [2019-04-16 00:15:11] Reading in data
INFO [2019-04-16 00:15:11] Reading in wt_1
INFO [2019-04-16 00:15:12] Reading in wt_2
INFO [2019-04-16 00:15:12] Reading in mutant_1
INFO [2019-04-16 00:15:12] Reading in mutant_2
INFO [2019-04-16 00:15:12] Finished reading in data
INFO [2019-04-16 00:15:12] GenoGAMDataSet created
INFO [2019-04-16 00:15:13] Creating GenoGAMDataSet
ERROR [2019-04-16 00:15:13] The data does not match the region specification in the bamParams settings.
INFO [2019-04-16 00:15:13] GenoGAMDataSet created
WARN [2019-04-16 00:15:13] Checks dismissed due to empty object or forgotten setting
INFO [2019-04-16 00:15:13] Creating GenoGAMDataSet
ERROR [2019-04-16 00:15:13] No chromosomes to read in. Check either the specified settings or the header of BAM file
INFO [2019-04-16 00:15:13] GenoGAMDataSet created
WARN [2019-04-16 00:15:13] Checks dismissed due to empty object or forgotten setting
INFO [2019-04-16 00:15:13] Creating GenoGAMDataSet
INFO [2019-04-16 00:15:13] Reading in data
INFO [2019-04-16 00:15:13] Reading in wt_1
INFO [2019-04-16 00:15:13] Reading in wt_2
INFO [2019-04-16 00:15:14] Reading in mutant_1
INFO [2019-04-16 00:15:14] Reading in mutant_2
INFO [2019-04-16 00:15:14] Finished reading in data
ERROR [2019-04-16 00:15:15] Checks failed. Following settings display errors:
formula
"'by' variables in design don't match colData"
INFO [2019-04-16 00:15:15] GenoGAMDataSet created
ERROR [2019-04-16 00:15:15] Checks failed. Following settings display errors:
formula
"'by' variables in design don't match colData"
WARN [2019-04-16 00:15:17] Settings checking deactivated. Modeling on these tiles might yield wrong results.
WARN [2019-04-16 00:15:17] Checks dismissed due to empty object or forgotten setting
ERROR [2019-04-16 00:15:17] 'by' variables could not be found in colData
INFO [2019-04-16 00:15:18] Reading in data
INFO [2019-04-16 00:15:18] Reading in wt_1
INFO [2019-04-16 00:15:18] Reading in wt_2
INFO [2019-04-16 00:15:19] Reading in mutant_1
INFO [2019-04-16 00:15:19] Reading in mutant_2
INFO [2019-04-16 00:15:20] Finished reading in data
INFO [2019-04-16 00:15:20] Creating GenoGAMDataSet
INFO [2019-04-16 00:15:21] Reading in data
INFO [2019-04-16 00:15:21] Reading in wt_1
INFO [2019-04-16 00:15:22] Reading in wt_2
INFO [2019-04-16 00:15:22] Reading in mutant_1
INFO [2019-04-16 00:15:22] Reading in mutant_2
INFO [2019-04-16 00:15:23] Finished reading in data
INFO [2019-04-16 00:15:23] GenoGAMDataSet created
INFO [2019-04-16 00:15:25] Creating GenoGAMDataSet
INFO [2019-04-16 00:15:25] GenoGAMDataSet created
INFO [2019-04-16 00:15:26] Creating GenoGAMDataSet
INFO [2019-04-16 00:15:27] GenoGAMDataSet created
INFO [2019-04-16 00:15:28] Creating GenoGAMDataSet
INFO [2019-04-16 00:15:29] GenoGAMDataSet created
INFO [2019-04-16 00:15:29] Creating GenoGAMDataSet
INFO [2019-04-16 00:15:30] GenoGAMDataSet created
INFO [2019-04-16 00:15:30] Creating GenoGAMDataSet
INFO [2019-04-16 00:15:31] Reading in data
INFO [2019-04-16 00:15:31] Reading in wt_1
INFO [2019-04-16 00:15:31] Reading in wt_2
INFO [2019-04-16 00:15:32] Reading in mutant_1
INFO [2019-04-16 00:15:32] Reading in mutant_2
INFO [2019-04-16 00:15:32] Finished reading in data
INFO [2019-04-16 00:15:34] GenoGAMDataSet created
INFO [2019-04-16 00:15:34] Creating GenoGAMDataSet
INFO [2019-04-16 00:15:34] Reading in data
INFO [2019-04-16 00:15:34] Reading in wt_1
INFO [2019-04-16 00:15:34] Reading in wt_2
INFO [2019-04-16 00:15:35] Reading in mutant_1
INFO [2019-04-16 00:15:35] Reading in mutant_2
INFO [2019-04-16 00:15:35] Finished reading in data
INFO [2019-04-16 00:15:36] GenoGAMDataSet created
INFO [2019-04-16 00:15:36] Creating GenoGAMDataSet
INFO [2019-04-16 00:15:37] Reading in data
INFO [2019-04-16 00:15:37] Reading in wt_1
INFO [2019-04-16 00:15:37] Reading in wt_2
INFO [2019-04-16 00:15:38] Reading in mutant_1
INFO [2019-04-16 00:15:38] Reading in mutant_2
INFO [2019-04-16 00:15:38] Finished reading in data
INFO [2019-04-16 00:15:39] GenoGAMDataSet created
INFO [2019-04-16 00:15:39] Creating GenoGAMDataSet
ERROR [2019-04-16 00:15:39] The data does not match the region specification in the bamParams settings.
INFO [2019-04-16 00:15:39] GenoGAMDataSet created
WARN [2019-04-16 00:15:39] Checks dismissed due to empty object or forgotten setting
INFO [2019-04-16 00:15:39] Creating GenoGAMDataSet
ERROR [2019-04-16 00:15:39] The data does not match the region specification in the bamParams settings.
INFO [2019-04-16 00:15:39] GenoGAMDataSet created
WARN [2019-04-16 00:15:39] Checks dismissed due to empty object or forgotten setting
INFO [2019-04-16 00:15:39] Creating GenoGAMDataSet
INFO [2019-04-16 00:15:40] Reading in data
INFO [2019-04-16 00:15:40] Reading in wt_1
INFO [2019-04-16 00:15:40] Reading in wt_2
INFO [2019-04-16 00:15:41] Reading in mutant_1
INFO [2019-04-16 00:15:41] Reading in mutant_2
INFO [2019-04-16 00:15:42] Finished reading in data
ERROR [2019-04-16 00:15:43] Checks failed. Following settings display errors:
formula
"'by' variables in design don't match colData"
INFO [2019-04-16 00:15:43] GenoGAMDataSet created
ERROR [2019-04-16 00:15:43] Checks failed. Following settings display errors:
formula
"'by' variables in design don't match colData"
WARN [2019-04-16 00:15:44] Settings checking deactivated. Modeling on these tiles might yield wrong results.
WARN [2019-04-16 00:15:44] Checks dismissed due to empty object or forgotten setting
INFO [2019-04-16 00:15:44] Creating GenoGAMDataSet
INFO [2019-04-16 00:15:44] Reading in data
INFO [2019-04-16 00:15:44] Reading in wt_1
INFO [2019-04-16 00:15:45] Reading in wt_2
INFO [2019-04-16 00:15:45] Reading in mutant_1
INFO [2019-04-16 00:15:46] Reading in mutant_2
INFO [2019-04-16 00:15:46] Finished reading in data
INFO [2019-04-16 00:15:46] GenoGAMDataSet created
ERROR [2019-04-16 00:15:46] 'by' variables could not be found in colData
WARN [2019-04-16 00:15:58] Some supplied parameters aren't valid and won't be used
WARN [2019-04-16 00:15:58] Some supplied parameters aren't valid and won't be used
INFO [2019-04-16 00:15:58] Creating GenoGAMDataSet
INFO [2019-04-16 00:15:59] GenoGAMDataSet created
INFO [2019-04-16 00:15:59] Creating GenoGAMDataSet
INFO [2019-04-16 00:16:00] GenoGAMDataSet created
ERROR [2019-04-16 00:16:04] The overhang size covers the entire tile. Change parameter to a lower meaningful value. See getOverhangSize().
INFO [2019-04-16 00:16:05] Creating GenoGAMDataSet
INFO [2019-04-16 00:16:05] GenoGAMDataSet created
WARN [2019-04-16 00:16:08] Some supplied parameters aren't valid and won't be used
INFO [2019-04-16 00:16:09] Creating GenoGAMDataSet
INFO [2019-04-16 00:16:10] GenoGAMDataSet created
INFO [2019-04-16 00:16:10] Computing size factors
INFO [2019-04-16 00:16:10] DONE
INFO [2019-04-16 00:16:10] Computing size factors
INFO [2019-04-16 00:16:10] Creating GenoGAMDataSet
INFO [2019-04-16 00:16:11] GenoGAMDataSet created
INFO [2019-04-16 00:16:11] Computing size factors
ERROR [2019-04-16 00:16:11] GenoGAMDataSet doesn't have column names. No size factors computed.
INFO [2019-04-16 00:16:11] Creating GenoGAMDataSet
INFO [2019-04-16 00:16:11] GenoGAMDataSet created
══ testthat results ═══════════════════════════════════════════════════════════
OK: 536 SKIPPED: 0 FAILED: 0
>
> proc.time()
user system elapsed
82.540 7.580 79.598