| Back to Multiple platform build/check report for BioC 3.8 |
|
This page was generated on 2019-04-16 11:48:33 -0400 (Tue, 16 Apr 2019).
| Package 608/1649 | Hostname | OS / Arch | INSTALL | BUILD | CHECK | BUILD BIN | ||||||
Martin Slawski
| malbec1 | Linux (Ubuntu 16.04.6 LTS) / x86_64 | [ OK ] | OK | WARNINGS | |||||||
| merida1 | OS X 10.11.6 El Capitan / x86_64 | OK | OK | WARNINGS | OK |
| Package: GeneSelector |
| Version: 2.32.0 |
| Command: /home/biocbuild/bbs-3.8-bioc/R/bin/R CMD INSTALL GeneSelector |
| StartedAt: 2019-04-15 18:01:21 -0400 (Mon, 15 Apr 2019) |
| EndedAt: 2019-04-15 18:01:34 -0400 (Mon, 15 Apr 2019) |
| EllapsedTime: 12.5 seconds |
| RetCode: 0 |
| Status: OK |
##############################################################################
##############################################################################
###
### Running command:
###
### /home/biocbuild/bbs-3.8-bioc/R/bin/R CMD INSTALL GeneSelector
###
##############################################################################
##############################################################################
* installing to library ‘/home/biocbuild/bbs-3.8-bioc/R/library’
* installing *source* package ‘GeneSelector’ ...
** libs
gcc -I"/home/biocbuild/bbs-3.8-bioc/R/include" -DNDEBUG -I/usr/local/include -fpic -g -O2 -Wall -c kendall.c -o kendall.o
kendall.c: In function ‘kendall’:
kendall.c:7:10: warning: ‘tau’ may be used uninitialized in this function [-Wmaybe-uninitialized]
res[0] = tau;
^
gcc -I"/home/biocbuild/bbs-3.8-bioc/R/include" -DNDEBUG -I/usr/local/include -fpic -g -O2 -Wall -c mcfour.c -o mcfour.o
gcc -I"/home/biocbuild/bbs-3.8-bioc/R/include" -DNDEBUG -I/usr/local/include -fpic -g -O2 -Wall -c mct.c -o mct.o
gcc -shared -L/home/biocbuild/bbs-3.8-bioc/R/lib -L/usr/local/lib -o GeneSelector.so kendall.o mcfour.o mct.o -L/home/biocbuild/bbs-3.8-bioc/R/lib -lR
installing to /home/biocbuild/bbs-3.8-bioc/R/library/GeneSelector/libs
** R
** data
** byte-compile and prepare package for lazy loading
** help
*** installing help indices
** building package indices
** installing vignettes
** testing if installed package can be loaded
Warning: Package 'GeneSelector' is deprecated and will be removed from
Bioconductor version 3.9
* DONE (GeneSelector)