| Back to Multiple platform build/check report for BioC 3.8 |
|
This page was generated on 2019-04-13 11:26:11 -0400 (Sat, 13 Apr 2019).
| Package 688/1649 | Hostname | OS / Arch | INSTALL | BUILD | CHECK | BUILD BIN | ||||||
| GSALightning 1.10.0 Billy Heung Wing Chang
| malbec1 | Linux (Ubuntu 16.04.6 LTS) / x86_64 | OK | OK | OK | |||||||
| tokay1 | Windows Server 2012 R2 Standard / x64 | OK | OK | OK | [ OK ] | |||||||
| merida1 | OS X 10.11.6 El Capitan / x86_64 | OK | OK | OK | OK |
| Package: GSALightning |
| Version: 1.10.0 |
| Command: rm -rf GSALightning.buildbin-libdir && mkdir GSALightning.buildbin-libdir && C:\Users\biocbuild\bbs-3.8-bioc\R\bin\R.exe CMD INSTALL --merge-multiarch --build --library=GSALightning.buildbin-libdir GSALightning_1.10.0.tar.gz |
| StartedAt: 2019-04-13 07:21:50 -0400 (Sat, 13 Apr 2019) |
| EndedAt: 2019-04-13 07:23:51 -0400 (Sat, 13 Apr 2019) |
| EllapsedTime: 121.8 seconds |
| RetCode: 0 |
| Status: OK |
| PackageFile: GSALightning_1.10.0.zip |
| PackageFileSize: 4.269 MiB |
##############################################################################
##############################################################################
###
### Running command:
###
### rm -rf GSALightning.buildbin-libdir && mkdir GSALightning.buildbin-libdir && C:\Users\biocbuild\bbs-3.8-bioc\R\bin\R.exe CMD INSTALL --merge-multiarch --build --library=GSALightning.buildbin-libdir GSALightning_1.10.0.tar.gz
###
##############################################################################
##############################################################################
install for i386
* installing *source* package 'GSALightning' ...
** R
** data
** inst
** byte-compile and prepare package for lazy loading
** help
*** installing help indices
converting help for package 'GSALightning'
finding HTML links ... done
GSALight html
GSALightning-package html
expression html
permTestLight html
sampleInfo html
targetGenes html
wilcoxTest html
** building package indices
** installing vignettes
** testing if installed package can be loaded
In R CMD INSTALL
install for x64
* installing *source* package 'GSALightning' ...
** testing if installed package can be loaded
* MD5 sums
packaged installation of 'GSALightning' as GSALightning_1.10.0.zip
* DONE (GSALightning)
In R CMD INSTALL
In R CMD INSTALL