| Back to Multiple platform build/check report for BioC 3.8 | 
 | 
This page was generated on 2019-04-13 11:23:25 -0400 (Sat, 13 Apr 2019).
| Package 671/1649 | Hostname | OS / Arch | INSTALL | BUILD | CHECK | BUILD BIN | ||||||
| GOTHiC 1.18.1 Borbala Mifsud 
 | malbec1 | Linux (Ubuntu 16.04.6 LTS) / x86_64 | OK | OK | WARNINGS |  | ||||||
| tokay1 | Windows Server 2012 R2 Standard / x64 | OK | OK | WARNINGS | [ OK ] |  | ||||||
| merida1 | OS X 10.11.6 El Capitan / x86_64 | OK | OK | WARNINGS | OK |  | 
| Package: GOTHiC | 
| Version: 1.18.1 | 
| Command: rm -rf GOTHiC.buildbin-libdir && mkdir GOTHiC.buildbin-libdir && C:\Users\biocbuild\bbs-3.8-bioc\R\bin\R.exe CMD INSTALL --merge-multiarch --build --library=GOTHiC.buildbin-libdir GOTHiC_1.18.1.tar.gz | 
| StartedAt: 2019-04-13 07:20:55 -0400 (Sat, 13 Apr 2019) | 
| EndedAt: 2019-04-13 07:21:33 -0400 (Sat, 13 Apr 2019) | 
| EllapsedTime: 37.1 seconds | 
| RetCode: 0 | 
| Status: OK | 
| PackageFile: GOTHiC_1.18.1.zip | 
| PackageFileSize: 2.39 MiB | 
##############################################################################
##############################################################################
###
### Running command:
###
###   rm -rf GOTHiC.buildbin-libdir && mkdir GOTHiC.buildbin-libdir && C:\Users\biocbuild\bbs-3.8-bioc\R\bin\R.exe CMD INSTALL --merge-multiarch --build --library=GOTHiC.buildbin-libdir GOTHiC_1.18.1.tar.gz
###
##############################################################################
##############################################################################
install for i386
* installing *source* package 'GOTHiC' ...
** R
** data
** inst
** byte-compile and prepare package for lazy loading
** help
*** installing help indices
  converting help for package 'GOTHiC'
    finding HTML links ... done
    GOTHiC                                  html  
    GOTHiChicup                             html  
    filtered                                html  
    mapReadsToRestrictionSites              html  
    pairReads                               html  
** building package indices
** installing vignettes
** testing if installed package can be loaded
In R CMD INSTALL
install for x64
* installing *source* package 'GOTHiC' ...
** testing if installed package can be loaded
* MD5 sums
packaged installation of 'GOTHiC' as GOTHiC_1.18.1.zip
* DONE (GOTHiC)
In R CMD INSTALL
In R CMD INSTALL