| Back to Multiple platform build/check report for BioC 3.8 | 
 | 
This page was generated on 2019-04-13 11:21:42 -0400 (Sat, 13 Apr 2019).
| Package 661/1649 | Hostname | OS / Arch | INSTALL | BUILD | CHECK | BUILD BIN | ||||||
| GOFunction 1.30.0 Jing Wang 
 | malbec1 | Linux (Ubuntu 16.04.6 LTS) / x86_64 | OK | OK | OK |  | ||||||
| tokay1 | Windows Server 2012 R2 Standard / x64 | [ OK ] | OK | OK | OK |  | ||||||
| merida1 | OS X 10.11.6 El Capitan / x86_64 | OK | OK | OK | OK |  | 
| Package: GOFunction | 
| Version: 1.30.0 | 
| Command: C:\cygwin\bin\curl.exe -O https://malbec1.bioconductor.org/BBS/3.8/bioc/src/contrib/GOFunction_1.30.0.tar.gz && rm -rf GOFunction.buildbin-libdir && mkdir GOFunction.buildbin-libdir && C:\Users\biocbuild\bbs-3.8-bioc\R\bin\R.exe CMD INSTALL --merge-multiarch --build --library=GOFunction.buildbin-libdir GOFunction_1.30.0.tar.gz && C:\Users\biocbuild\bbs-3.8-bioc\R\bin\R.exe CMD INSTALL GOFunction_1.30.0.zip && rm GOFunction_1.30.0.tar.gz GOFunction_1.30.0.zip | 
| StartedAt: 2019-04-12 19:28:05 -0400 (Fri, 12 Apr 2019) | 
| EndedAt: 2019-04-12 19:28:43 -0400 (Fri, 12 Apr 2019) | 
| EllapsedTime: 37.6 seconds | 
| RetCode: 0 | 
| Status: OK | 
##############################################################################
##############################################################################
###
### Running command:
###
###   C:\cygwin\bin\curl.exe -O https://malbec1.bioconductor.org/BBS/3.8/bioc/src/contrib/GOFunction_1.30.0.tar.gz && rm -rf GOFunction.buildbin-libdir && mkdir GOFunction.buildbin-libdir && C:\Users\biocbuild\bbs-3.8-bioc\R\bin\R.exe CMD INSTALL --merge-multiarch --build --library=GOFunction.buildbin-libdir GOFunction_1.30.0.tar.gz && C:\Users\biocbuild\bbs-3.8-bioc\R\bin\R.exe CMD INSTALL GOFunction_1.30.0.zip && rm GOFunction_1.30.0.tar.gz GOFunction_1.30.0.zip
###
##############################################################################
##############################################################################
  % Total    % Received % Xferd  Average Speed   Time    Time     Time  Current
                                 Dload  Upload   Total   Spent    Left  Speed
  0     0    0     0    0     0      0      0 --:--:-- --:--:-- --:--:--     0
100  583k  100  583k    0     0  12.2M      0 --:--:-- --:--:-- --:--:-- 13.2M
install for i386
* installing *source* package 'GOFunction' ...
** R
** data
** byte-compile and prepare package for lazy loading
** help
*** installing help indices
  converting help for package 'GOFunction'
    finding HTML links ... done
    GOFunction-package                      html  
    GOFunction                              html  
    createGODAG                             html  
    enrichmentFunction                      html  
    globalRedundancy                        html  
    interestGenes                           html  
    localRedundancy                         html  
    refGenes                                html  
    showSigNodes                            html  
** building package indices
** installing vignettes
** testing if installed package can be loaded
In R CMD INSTALL
install for x64
* installing *source* package 'GOFunction' ...
** testing if installed package can be loaded
* MD5 sums
packaged installation of 'GOFunction' as GOFunction_1.30.0.zip
* DONE (GOFunction)
In R CMD INSTALL
In R CMD INSTALL
* installing to library 'C:/Users/biocbuild/bbs-3.8-bioc/R/library'
package 'GOFunction' successfully unpacked and MD5 sums checked
In R CMD INSTALL