| Back to Multiple platform build/check report for BioC 3.8 |
|
This page was generated on 2019-04-16 11:53:35 -0400 (Tue, 16 Apr 2019).
| Package 658/1649 | Hostname | OS / Arch | INSTALL | BUILD | CHECK | BUILD BIN | ||||||
| GMRP 1.10.1 Yuan-De Tan
| malbec1 | Linux (Ubuntu 16.04.6 LTS) / x86_64 | OK | [ OK ] | WARNINGS | |||||||
| merida1 | OS X 10.11.6 El Capitan / x86_64 | OK | OK | WARNINGS | OK |
| Package: GMRP |
| Version: 1.10.1 |
| Command: /home/biocbuild/bbs-3.8-bioc/R/bin/R CMD build --keep-empty-dirs --no-resave-data GMRP |
| StartedAt: 2019-04-15 21:47:31 -0400 (Mon, 15 Apr 2019) |
| EndedAt: 2019-04-15 21:47:48 -0400 (Mon, 15 Apr 2019) |
| EllapsedTime: 17.0 seconds |
| RetCode: 0 |
| Status: OK |
| PackageFile: GMRP_1.10.1.tar.gz |
| PackageFileSize: 819.9 KiB |
##############################################################################
##############################################################################
###
### Running command:
###
### /home/biocbuild/bbs-3.8-bioc/R/bin/R CMD build --keep-empty-dirs --no-resave-data GMRP
###
##############################################################################
##############################################################################
* checking for file ‘GMRP/DESCRIPTION’ ... OK
* preparing ‘GMRP’:
* checking DESCRIPTION meta-information ... OK
* installing the package to build vignettes
* creating vignettes ... OK
Warning: ‘inst/doc’ file
‘GMRP.R’
ignored as vignettes have been rebuilt.
Run R CMD build with --no-build-vignettes to prevent rebuilding.
* checking for LF line-endings in source and make files and shell scripts
* checking for empty or unneeded directories
* looking to see if a ‘data/datalist’ file should be added
* building ‘GMRP_1.10.1.tar.gz’