| Back to Multiple platform build/check report for BioC 3.8 |
|
This page was generated on 2019-04-16 11:54:24 -0400 (Tue, 16 Apr 2019).
| Package 638/1649 | Hostname | OS / Arch | INSTALL | BUILD | CHECK | BUILD BIN | ||||||
| GEOquery 2.50.5 Sean Davis
| malbec1 | Linux (Ubuntu 16.04.6 LTS) / x86_64 | OK | OK | OK | |||||||
| merida1 | OS X 10.11.6 El Capitan / x86_64 | OK | OK | [ OK ] | OK |
| Package: GEOquery |
| Version: 2.50.5 |
| Command: /Library/Frameworks/R.framework/Versions/Current/Resources/bin/R CMD check --install=check:GEOquery.install-out.txt --library=/Library/Frameworks/R.framework/Versions/Current/Resources/library --no-vignettes --timings GEOquery_2.50.5.tar.gz |
| StartedAt: 2019-04-16 00:15:28 -0400 (Tue, 16 Apr 2019) |
| EndedAt: 2019-04-16 00:18:29 -0400 (Tue, 16 Apr 2019) |
| EllapsedTime: 181.8 seconds |
| RetCode: 0 |
| Status: OK |
| CheckDir: GEOquery.Rcheck |
| Warnings: 0 |
##############################################################################
##############################################################################
###
### Running command:
###
### /Library/Frameworks/R.framework/Versions/Current/Resources/bin/R CMD check --install=check:GEOquery.install-out.txt --library=/Library/Frameworks/R.framework/Versions/Current/Resources/library --no-vignettes --timings GEOquery_2.50.5.tar.gz
###
##############################################################################
##############################################################################
* using log directory ‘/Users/biocbuild/bbs-3.8-bioc/meat/GEOquery.Rcheck’
* using R version 3.5.3 (2019-03-11)
* using platform: x86_64-apple-darwin15.6.0 (64-bit)
* using session charset: UTF-8
* using option ‘--no-vignettes’
* checking for file ‘GEOquery/DESCRIPTION’ ... OK
* checking extension type ... Package
* this is package ‘GEOquery’ version ‘2.50.5’
* checking package namespace information ... OK
* checking package dependencies ... OK
* checking if this is a source package ... OK
* checking if there is a namespace ... OK
* checking for hidden files and directories ... OK
* checking for portable file names ... OK
* checking for sufficient/correct file permissions ... OK
* checking whether package ‘GEOquery’ can be installed ... OK
* checking installed package size ... NOTE
installed size is 13.1Mb
sub-directories of 1Mb or more:
extdata 12.8Mb
* checking package directory ... OK
* checking ‘build’ directory ... OK
* checking DESCRIPTION meta-information ... OK
* checking top-level files ... OK
* checking for left-over files ... OK
* checking index information ... OK
* checking package subdirectories ... OK
* checking R files for non-ASCII characters ... OK
* checking R files for syntax errors ... OK
* checking whether the package can be loaded ... OK
* checking whether the package can be loaded with stated dependencies ... OK
* checking whether the package can be unloaded cleanly ... OK
* checking whether the namespace can be loaded with stated dependencies ... NOTE
Warning: no function found corresponding to methods exports from ‘GEOquery’ for: ‘show’
A namespace must be able to be loaded with just the base namespace
loaded: otherwise if the namespace gets loaded by a saved object, the
session will be unable to start.
Probably some imports need to be declared in the NAMESPACE file.
* checking whether the namespace can be unloaded cleanly ... OK
* checking dependencies in R code ... NOTE
Namespace in Imports field not imported from: ‘httr’
All declared Imports should be used.
Package in Depends field not imported from: ‘methods’
These packages need to be imported from (in the NAMESPACE file)
for when this namespace is loaded but not attached.
* checking S3 generic/method consistency ... OK
* checking replacement functions ... OK
* checking foreign function calls ... OK
* checking R code for possible problems ... NOTE
File ‘GEOquery/R/zzz.R’:
.onLoad calls:
packageStartupMessage("Setting options('download.file.method.GEOquery'='auto')")
packageStartupMessage("Setting options('GEOquery.inmemory.gpl'=FALSE)")
See section ‘Good practice’ in '?.onAttach'.
.parseGPLTxt: no visible global function definition for ‘new’
.parseGPLWithLimits: no visible global function definition for ‘new’
.parseGSMTxt: no visible global function definition for ‘new’
.parseGSMWithLimits: no visible global function definition for ‘new’
GDS2MA: no visible global function definition for ‘new’
GDS2MA: no visible binding for global variable ‘MA’
GDS2eSet: no visible global function definition for ‘new’
fastTabRead: no visible global function definition for ‘read.table’
fastTabRead: no visible global function definition for ‘read.delim’
parseGDS: no visible global function definition for ‘new’
parseGSE: no visible global function definition for ‘new’
parseGSEMatrix: no visible global function definition for ‘read.table’
parseGSEMatrix: no visible global function definition for ‘new’
parseGSEMatrix: no visible binding for global variable ‘.’
parseGSEMatrix: no visible binding for global variable
‘characteristics’
parseGSEMatrix: no visible binding for global variable ‘kvpair’
parseGSEMatrix: no visible binding for global variable ‘accession’
parseGSEMatrix: no visible binding for global variable ‘k’
parseGSEMatrix: no visible binding for global variable ‘v’
parseGSEMatrix: no visible global function definition for ‘as’
Undefined global functions or variables:
. MA accession as characteristics k kvpair new read.delim read.table
v
Consider adding
importFrom("methods", "as", "new")
importFrom("utils", "read.delim", "read.table")
to your NAMESPACE file (and ensure that your DESCRIPTION Imports field
contains 'methods').
* checking Rd files ... OK
* checking Rd metadata ... OK
* checking Rd cross-references ... OK
* checking for missing documentation entries ... OK
* checking for code/documentation mismatches ... OK
* checking Rd \usage sections ... OK
* checking Rd contents ... OK
* checking for unstated dependencies in examples ... OK
* checking files in ‘vignettes’ ... OK
* checking examples ... OK
Examples with CPU or elapsed time > 5s
user system elapsed
getGEO 4.499 0.355 6.53
* checking for unstated dependencies in ‘tests’ ... OK
* checking tests ...
Running ‘testthat.R’
OK
* checking for unstated dependencies in vignettes ... OK
* checking package vignettes in ‘inst/doc’ ... OK
* checking running R code from vignettes ... SKIPPED
* checking re-building of vignette outputs ... SKIPPED
* checking PDF version of manual ... OK
* DONE
Status: 4 NOTEs
See
‘/Users/biocbuild/bbs-3.8-bioc/meat/GEOquery.Rcheck/00check.log’
for details.
GEOquery.Rcheck/00install.out
############################################################################## ############################################################################## ### ### Running command: ### ### /Library/Frameworks/R.framework/Versions/Current/Resources/bin/R CMD INSTALL GEOquery ### ############################################################################## ############################################################################## * installing to library ‘/Library/Frameworks/R.framework/Versions/3.5/Resources/library’ * installing *source* package ‘GEOquery’ ... ** R ** inst ** byte-compile and prepare package for lazy loading ** help *** installing help indices ** building package indices ** installing vignettes ** testing if installed package can be loaded * DONE (GEOquery)
GEOquery.Rcheck/tests/testthat.Rout
R version 3.5.3 (2019-03-11) -- "Great Truth"
Copyright (C) 2019 The R Foundation for Statistical Computing
Platform: x86_64-apple-darwin15.6.0 (64-bit)
R is free software and comes with ABSOLUTELY NO WARRANTY.
You are welcome to redistribute it under certain conditions.
Type 'license()' or 'licence()' for distribution details.
R is a collaborative project with many contributors.
Type 'contributors()' for more information and
'citation()' on how to cite R or R packages in publications.
Type 'demo()' for some demos, 'help()' for on-line help, or
'help.start()' for an HTML browser interface to help.
Type 'q()' to quit R.
> library(testthat)
> library(GEOquery)
Loading required package: Biobase
Loading required package: BiocGenerics
Loading required package: parallel
Attaching package: 'BiocGenerics'
The following objects are masked from 'package:parallel':
clusterApply, clusterApplyLB, clusterCall, clusterEvalQ,
clusterExport, clusterMap, parApply, parCapply, parLapply,
parLapplyLB, parRapply, parSapply, parSapplyLB
The following objects are masked from 'package:stats':
IQR, mad, sd, var, xtabs
The following objects are masked from 'package:base':
Filter, Find, Map, Position, Reduce, anyDuplicated, append,
as.data.frame, basename, cbind, colMeans, colSums, colnames,
dirname, do.call, duplicated, eval, evalq, get, grep, grepl,
intersect, is.unsorted, lapply, lengths, mapply, match, mget,
order, paste, pmax, pmax.int, pmin, pmin.int, rank, rbind,
rowMeans, rowSums, rownames, sapply, setdiff, sort, table, tapply,
union, unique, unsplit, which, which.max, which.min
Welcome to Bioconductor
Vignettes contain introductory material; view with
'browseVignettes()'. To cite Bioconductor, see
'citation("Biobase")', and for packages 'citation("pkgname")'.
Setting options('download.file.method.GEOquery'='auto')
Setting options('GEOquery.inmemory.gpl'=FALSE)
>
> test_check("GEOquery")
trying URL 'https://ftp.ncbi.nlm.nih.gov/geo/series/GSE11nnn/GSE11413/matrix/GSE11413_series_matrix.txt.gz'
Content type 'application/x-gzip' length 3997 bytes
==================================================
downloaded 3997 bytes
trying URL 'https://ftp.ncbi.nlm.nih.gov/geo/series/GSE35nnn/GSE35683/matrix/GSE35683_series_matrix.txt.gz'
Content type 'application/x-gzip' length 5733793 bytes (5.5 MB)
==================================================
downloaded 5.5 MB
trying URL 'https://ftp.ncbi.nlm.nih.gov/geo/series/GSE11nnn/GSE11595/matrix/GSE11595-GPL3906_series_matrix.txt.gz'
Content type 'application/x-gzip' length 59663 bytes (58 KB)
==================================================
downloaded 58 KB
trying URL 'https://ftp.ncbi.nlm.nih.gov/geo/series/GSE11nnn/GSE11595/matrix/GSE11595-GPL4348_series_matrix.txt.gz'
Content type 'application/x-gzip' length 1528930 bytes (1.5 MB)
==================================================
downloaded 1.5 MB
trying URL 'https://ftp.ncbi.nlm.nih.gov/geo/series/GSE34nnn/GSE34145/matrix/GSE34145-GPL15796_series_matrix.txt.gz'
Content type 'application/x-gzip' length 6643 bytes
==================================================
downloaded 6643 bytes
trying URL 'https://ftp.ncbi.nlm.nih.gov/geo/series/GSE34nnn/GSE34145/matrix/GSE34145-GPL6102_series_matrix.txt.gz'
Content type 'application/x-gzip' length 1428433 bytes (1.4 MB)
==================================================
downloaded 1.4 MB
trying URL 'https://ftp.ncbi.nlm.nih.gov/geo/series/GSE71nnn/GSE71989/matrix/GSE71989_series_matrix.txt.gz'
Content type 'application/x-gzip' length 4240451 bytes (4.0 MB)
==================================================
downloaded 4.0 MB
trying URL 'https://ftp.ncbi.nlm.nih.gov/geo/series/GSE53nnn/GSE53986/matrix/GSE53986_series_matrix.txt.gz'
Content type 'application/x-gzip' length 2848655 bytes (2.7 MB)
==================================================
downloaded 2.7 MB
trying URL 'https://ftp.ncbi.nlm.nih.gov/geo/series/GSE99nnn/GSE99709/matrix/GSE99709_series_matrix.txt.gz'
Content type 'application/x-gzip' length 3390 bytes
==================================================
downloaded 3390 bytes
trying URL 'https://ftp.ncbi.nlm.nih.gov/geo/series/GSE27nnn/GSE27712/matrix/GSE27712-GPL4055_series_matrix.txt.gz'
Content type 'application/x-gzip' length 3312639 bytes (3.2 MB)
==================================================
downloaded 3.2 MB
trying URL 'https://ftp.ncbi.nlm.nih.gov/geo/series/GSE27nnn/GSE27712/matrix/GSE27712-GPL6099_series_matrix.txt.gz'
Content type 'application/x-gzip' length 836112 bytes (816 KB)
==================================================
downloaded 816 KB
trying URL 'https://ftp.ncbi.nlm.nih.gov/geo/series/GSE2nnn/GSE2553/matrix/GSE2553_series_matrix.txt.gz'
Content type 'application/x-gzip' length 8480960 bytes (8.1 MB)
==================================================
downloaded 8.1 MB
trying URL 'https://ftp.ncbi.nlm.nih.gov/geo/series/GSE1nnn/GSE1000/suppl//GSE1000_RAW.tar?tool=geoquery'
Content type 'application/x-tar' length 35307520 bytes (33.7 MB)
==================================================
downloaded 33.7 MB
trying URL 'https://ftp.ncbi.nlm.nih.gov/geo/samples/GSM15nnn/GSM15789/suppl//GSM15789.cel.gz?tool=geoquery'
Content type 'application/x-gzip' length 3507725 bytes (3.3 MB)
==================================================
downloaded 3.3 MB
trying URL 'https://ftp.ncbi.nlm.nih.gov/geo/samples/GSM15nnn/GSM15789/suppl//GSM15789.cel.gz?tool=geoquery'
Content type 'application/x-gzip' length 3507725 bytes (3.3 MB)
==================================================
downloaded 3.3 MB
══ testthat results ═══════════════════════════════════════════════════════════
OK: 209 SKIPPED: 0 FAILED: 0
>
> proc.time()
user system elapsed
72.898 8.499 119.330
GEOquery.Rcheck/GEOquery-Ex.timings
| name | user | system | elapsed | |
| coercion | 0.000 | 0.000 | 0.001 | |
| getGEO | 4.499 | 0.355 | 6.530 | |
| getGEOSuppFiles | 0.011 | 0.002 | 0.148 | |
| getGEOfile | 0 | 0 | 0 | |
| getGSEDataTables | 0.293 | 0.030 | 0.739 | |
| gunzip | 0 | 0 | 0 | |