| Back to Multiple platform build/check report for BioC 3.8 |
|
This page was generated on 2019-04-16 11:57:57 -0400 (Tue, 16 Apr 2019).
| Package 472/1649 | Hostname | OS / Arch | INSTALL | BUILD | CHECK | BUILD BIN | ||||||
| EnrichmentBrowser 2.12.1 Ludwig Geistlinger
| malbec1 | Linux (Ubuntu 16.04.6 LTS) / x86_64 | OK | OK | OK | |||||||
| merida1 | OS X 10.11.6 El Capitan / x86_64 | OK | OK | OK | [ OK ] |
| Package: EnrichmentBrowser |
| Version: 2.12.1 |
| Command: rm -rf EnrichmentBrowser.buildbin-libdir && mkdir EnrichmentBrowser.buildbin-libdir && /Users/biocbuild/BBS/utils/build-universal.sh EnrichmentBrowser_2.12.1.tar.gz /Library/Frameworks/R.framework/Versions/Current/Resources/bin/R EnrichmentBrowser.buildbin-libdir |
| StartedAt: 2019-04-16 04:00:19 -0400 (Tue, 16 Apr 2019) |
| EndedAt: 2019-04-16 04:01:12 -0400 (Tue, 16 Apr 2019) |
| EllapsedTime: 52.6 seconds |
| RetCode: 0 |
| Status: OK |
| PackageFile: EnrichmentBrowser_2.12.1.tgz |
| PackageFileSize: 1.342 MiB |
############################################################################## ############################################################################## ### ### Running command: ### ### rm -rf EnrichmentBrowser.buildbin-libdir && mkdir EnrichmentBrowser.buildbin-libdir && /Users/biocbuild/BBS/utils/build-universal.sh EnrichmentBrowser_2.12.1.tar.gz /Library/Frameworks/R.framework/Versions/Current/Resources/bin/R EnrichmentBrowser.buildbin-libdir ### ############################################################################## ############################################################################## >>>>>>> >>>>>>> INSTALLATION WITH 'R CMD INSTALL --preclean --no-multiarch --library=EnrichmentBrowser.buildbin-libdir EnrichmentBrowser_2.12.1.tar.gz' >>>>>>> * installing *source* package ‘EnrichmentBrowser’ ... ** R ** inst ** byte-compile and prepare package for lazy loading ** help *** installing help indices ** building package indices ** installing vignettes ** testing if installed package can be loaded * DONE (EnrichmentBrowser)