| Back to Multiple platform build/check report for BioC 3.8 | 
 | 
This page was generated on 2019-04-16 11:51:35 -0400 (Tue, 16 Apr 2019).
| Package 471/1649 | Hostname | OS / Arch | INSTALL | BUILD | CHECK | BUILD BIN | ||||||
| EnrichedHeatmap 1.12.0 Zuguang Gu 
 | malbec1 | Linux (Ubuntu 16.04.6 LTS) / x86_64 | [ OK ] | OK | WARNINGS |  | ||||||
| merida1 | OS X 10.11.6 El Capitan / x86_64 | OK | OK | OK | OK |  | 
| Package: EnrichedHeatmap | 
| Version: 1.12.0 | 
| Command: /home/biocbuild/bbs-3.8-bioc/R/bin/R CMD INSTALL EnrichedHeatmap | 
| StartedAt: 2019-04-15 18:31:01 -0400 (Mon, 15 Apr 2019) | 
| EndedAt: 2019-04-15 18:31:22 -0400 (Mon, 15 Apr 2019) | 
| EllapsedTime: 20.4 seconds | 
| RetCode: 0 | 
| Status: OK | 
##############################################################################
##############################################################################
###
### Running command:
###
###   /home/biocbuild/bbs-3.8-bioc/R/bin/R CMD INSTALL EnrichedHeatmap
###
##############################################################################
##############################################################################
* installing to library ‘/home/biocbuild/bbs-3.8-bioc/R/library’
* installing *source* package ‘EnrichedHeatmap’ ...
** libs
g++  -I"/home/biocbuild/bbs-3.8-bioc/R/include" -DNDEBUG  -I"/home/biocbuild/bbs-3.8-bioc/R/library/Rcpp/include" -I/usr/local/include   -fpic  -g -O2  -Wall -c RcppExports.cpp -o RcppExports.o
g++  -I"/home/biocbuild/bbs-3.8-bioc/R/include" -DNDEBUG  -I"/home/biocbuild/bbs-3.8-bioc/R/library/Rcpp/include" -I/usr/local/include   -fpic  -g -O2  -Wall -c dist_by_closeness.cpp -o dist_by_closeness.o
dist_by_closeness.cpp: In function ‘float closeness(Rcpp::NumericVector, Rcpp::NumericVector)’:
dist_by_closeness.cpp:12:27: warning: suggest parentheses around comparison in operand of ‘|’ [-Wparentheses]
    if(std::abs(x1[i] - 0) < 1e-6 | std::abs(x2[j] - 0) < 1e-6) {
                           ^
g++ -shared -L/home/biocbuild/bbs-3.8-bioc/R/lib -L/usr/local/lib -o EnrichedHeatmap.so RcppExports.o dist_by_closeness.o -L/home/biocbuild/bbs-3.8-bioc/R/lib -lR
installing to /home/biocbuild/bbs-3.8-bioc/R/library/EnrichedHeatmap/libs
** R
** inst
** byte-compile and prepare package for lazy loading
** help
*** installing help indices
** building package indices
** installing vignettes
** testing if installed package can be loaded
* DONE (EnrichedHeatmap)