| Back to Multiple platform build/check report for BioC 3.8 | 
 | 
This page was generated on 2019-04-16 11:59:14 -0400 (Tue, 16 Apr 2019).
| Package 467/1649 | Hostname | OS / Arch | INSTALL | BUILD | CHECK | BUILD BIN | ||||||
| EmpiricalBrownsMethod 1.10.0 David Gibbs 
 | malbec1 | Linux (Ubuntu 16.04.6 LTS) / x86_64 | OK | OK | OK |  | ||||||
| merida1 | OS X 10.11.6 El Capitan / x86_64 | OK | [ OK ] | OK | OK |  | 
| Package: EmpiricalBrownsMethod | 
| Version: 1.10.0 | 
| Command: /Library/Frameworks/R.framework/Versions/Current/Resources/bin/R CMD build --keep-empty-dirs --no-resave-data EmpiricalBrownsMethod | 
| StartedAt: 2019-04-15 20:40:10 -0400 (Mon, 15 Apr 2019) | 
| EndedAt: 2019-04-15 20:40:14 -0400 (Mon, 15 Apr 2019) | 
| EllapsedTime: 3.5 seconds | 
| RetCode: 0 | 
| Status: OK | 
| PackageFile: EmpiricalBrownsMethod_1.10.0.tar.gz | 
| PackageFileSize: 38.25 KiB | 
############################################################################## ############################################################################## ### ### Running command: ### ### /Library/Frameworks/R.framework/Versions/Current/Resources/bin/R CMD build --keep-empty-dirs --no-resave-data EmpiricalBrownsMethod ### ############################################################################## ############################################################################## * checking for file ‘EmpiricalBrownsMethod/DESCRIPTION’ ... OK * preparing ‘EmpiricalBrownsMethod’: * checking DESCRIPTION meta-information ... OK * installing the package to build vignettes * creating vignettes ... OK * checking for LF line-endings in source and make files and shell scripts * checking for empty or unneeded directories * looking to see if a ‘data/datalist’ file should be added * building ‘EmpiricalBrownsMethod_1.10.0.tar.gz’