| Back to Multiple platform build/check report for BioC 3.8 | 
 | 
This page was generated on 2019-04-16 11:56:30 -0400 (Tue, 16 Apr 2019).
| Package 446/1649 | Hostname | OS / Arch | INSTALL | BUILD | CHECK | BUILD BIN | ||||||
| EasyqpcR 1.24.0 Le Pape Sylvain 
 | malbec1 | Linux (Ubuntu 16.04.6 LTS) / x86_64 | OK | OK | OK |  | ||||||
| merida1 | OS X 10.11.6 El Capitan / x86_64 | OK | OK | OK | [ OK ] |  | 
| Package: EasyqpcR | 
| Version: 1.24.0 | 
| Command: rm -rf EasyqpcR.buildbin-libdir && mkdir EasyqpcR.buildbin-libdir && /Users/biocbuild/BBS/utils/build-universal.sh EasyqpcR_1.24.0.tar.gz /Library/Frameworks/R.framework/Versions/Current/Resources/bin/R EasyqpcR.buildbin-libdir | 
| StartedAt: 2019-04-16 03:59:06 -0400 (Tue, 16 Apr 2019) | 
| EndedAt: 2019-04-16 03:59:45 -0400 (Tue, 16 Apr 2019) | 
| EllapsedTime: 39.2 seconds | 
| RetCode: 0 | 
| Status: OK | 
| PackageFile: EasyqpcR_1.24.0.tgz | 
| PackageFileSize: 1.783 MiB | 
############################################################################## ############################################################################## ### ### Running command: ### ### rm -rf EasyqpcR.buildbin-libdir && mkdir EasyqpcR.buildbin-libdir && /Users/biocbuild/BBS/utils/build-universal.sh EasyqpcR_1.24.0.tar.gz /Library/Frameworks/R.framework/Versions/Current/Resources/bin/R EasyqpcR.buildbin-libdir ### ############################################################################## ############################################################################## >>>>>>> >>>>>>> INSTALLATION WITH 'R CMD INSTALL --preclean --no-multiarch --library=EasyqpcR.buildbin-libdir EasyqpcR_1.24.0.tar.gz' >>>>>>> * installing *source* package ‘EasyqpcR’ ... ** R ** data ** inst ** byte-compile and prepare package for lazy loading ** help *** installing help indices ** building package indices ** installing vignettes ** testing if installed package can be loaded * DONE (EasyqpcR)