| Back to Multiple platform build/check report for BioC 3.8 |
|
This page was generated on 2019-04-13 11:29:42 -0400 (Sat, 13 Apr 2019).
| Package 487/1649 | Hostname | OS / Arch | INSTALL | BUILD | CHECK | BUILD BIN | ||||||
| ERSSA 1.0.1 Zixuan Shao
| malbec1 | Linux (Ubuntu 16.04.6 LTS) / x86_64 | OK | OK | OK | |||||||
| tokay1 | Windows Server 2012 R2 Standard / x64 | OK | OK | OK | [ OK ] | |||||||
| merida1 | OS X 10.11.6 El Capitan / x86_64 | OK | OK | OK | OK |
| Package: ERSSA |
| Version: 1.0.1 |
| Command: rm -rf ERSSA.buildbin-libdir && mkdir ERSSA.buildbin-libdir && C:\Users\biocbuild\bbs-3.8-bioc\R\bin\R.exe CMD INSTALL --merge-multiarch --build --library=ERSSA.buildbin-libdir ERSSA_1.0.1.tar.gz |
| StartedAt: 2019-04-13 07:14:16 -0400 (Sat, 13 Apr 2019) |
| EndedAt: 2019-04-13 07:14:45 -0400 (Sat, 13 Apr 2019) |
| EllapsedTime: 29.6 seconds |
| RetCode: 0 |
| Status: OK |
| PackageFile: ERSSA_1.0.1.zip |
| PackageFileSize: 2.572 MiB |
##############################################################################
##############################################################################
###
### Running command:
###
### rm -rf ERSSA.buildbin-libdir && mkdir ERSSA.buildbin-libdir && C:\Users\biocbuild\bbs-3.8-bioc\R\bin\R.exe CMD INSTALL --merge-multiarch --build --library=ERSSA.buildbin-libdir ERSSA_1.0.1.tar.gz
###
##############################################################################
##############################################################################
install for i386
* installing *source* package 'ERSSA' ...
** R
** data
*** moving datasets to lazyload DB
** inst
** byte-compile and prepare package for lazy loading
** help
*** installing help indices
converting help for package 'ERSSA'
finding HTML links ... done
comb_gen html
combinations.partial html
condition_table.full html
condition_table.partial html
count_filter html
count_table.filtered.partial html
count_table.full html
count_table.partial html
deg.partial html
erssa html
erssa_deseq2 html
erssa_deseq2_parallel html
erssa_edger html
erssa_edger_parallel html
ggplot2_TPR_FPRPlot html
ggplot2_dotplot html
ggplot2_intersectPlot html
ggplot2_marginPlot html
** building package indices
** installing vignettes
** testing if installed package can be loaded
In R CMD INSTALL
install for x64
* installing *source* package 'ERSSA' ...
** testing if installed package can be loaded
* MD5 sums
packaged installation of 'ERSSA' as ERSSA_1.0.1.zip
* DONE (ERSSA)
In R CMD INSTALL
In R CMD INSTALL