| Back to Multiple platform build/check report for BioC 3.8 | 
  | 
This page was generated on 2019-04-16 11:59:37 -0400 (Tue, 16 Apr 2019).
| Package 461/1649 | Hostname | OS / Arch | INSTALL | BUILD | CHECK | BUILD BIN | ||||||
| EGSEA 1.10.1 Monther Alhamdoosh 
  | malbec1 | Linux (Ubuntu 16.04.6 LTS) / x86_64 | OK | OK | OK | |||||||
| merida1 | OS X 10.11.6 El Capitan / x86_64 | OK | OK | OK | [ OK ] | 
| Package: EGSEA | 
| Version: 1.10.1 | 
| Command: rm -rf EGSEA.buildbin-libdir && mkdir EGSEA.buildbin-libdir && /Users/biocbuild/BBS/utils/build-universal.sh EGSEA_1.10.1.tar.gz /Library/Frameworks/R.framework/Versions/Current/Resources/bin/R EGSEA.buildbin-libdir | 
| StartedAt: 2019-04-16 03:59:48 -0400 (Tue, 16 Apr 2019) | 
| EndedAt: 2019-04-16 04:00:36 -0400 (Tue, 16 Apr 2019) | 
| EllapsedTime: 47.2 seconds | 
| RetCode: 0 | 
| Status: OK | 
| PackageFile: EGSEA_1.10.1.tgz | 
| PackageFileSize: 1.595 MiB | 
############################################################################## ############################################################################## ### ### Running command: ### ### rm -rf EGSEA.buildbin-libdir && mkdir EGSEA.buildbin-libdir && /Users/biocbuild/BBS/utils/build-universal.sh EGSEA_1.10.1.tar.gz /Library/Frameworks/R.framework/Versions/Current/Resources/bin/R EGSEA.buildbin-libdir ### ############################################################################## ############################################################################## >>>>>>> >>>>>>> INSTALLATION WITH 'R CMD INSTALL --preclean --no-multiarch --library=EGSEA.buildbin-libdir EGSEA_1.10.1.tar.gz' >>>>>>> * installing *source* package ‘EGSEA’ ... ** R ** inst ** byte-compile and prepare package for lazy loading groupGOTerms: GOBPTerm, GOMFTerm, GOCCTerm environments built. ** help *** installing help indices ** building package indices ** installing vignettes ** testing if installed package can be loaded groupGOTerms: GOBPTerm, GOMFTerm, GOCCTerm environments built. * DONE (EGSEA)