| Back to Multiple platform build/check report for BioC 3.8 | 
 | 
This page was generated on 2019-04-16 11:57:41 -0400 (Tue, 16 Apr 2019).
| Package 442/1649 | Hostname | OS / Arch | INSTALL | BUILD | CHECK | BUILD BIN | ||||||
| DupChecker 1.20.0 "Quanhu SHENG" 
 | malbec1 | Linux (Ubuntu 16.04.6 LTS) / x86_64 | OK | OK | OK |  | ||||||
| merida1 | OS X 10.11.6 El Capitan / x86_64 | OK | OK | OK | [ OK ] |  | 
| Package: DupChecker | 
| Version: 1.20.0 | 
| Command: rm -rf DupChecker.buildbin-libdir && mkdir DupChecker.buildbin-libdir && /Users/biocbuild/BBS/utils/build-universal.sh DupChecker_1.20.0.tar.gz /Library/Frameworks/R.framework/Versions/Current/Resources/bin/R DupChecker.buildbin-libdir | 
| StartedAt: 2019-04-16 03:58:55 -0400 (Tue, 16 Apr 2019) | 
| EndedAt: 2019-04-16 03:59:34 -0400 (Tue, 16 Apr 2019) | 
| EllapsedTime: 39.4 seconds | 
| RetCode: 0 | 
| Status: OK | 
| PackageFile: DupChecker_1.20.0.tgz | 
| PackageFileSize: 166.1 KiB | 
############################################################################## ############################################################################## ### ### Running command: ### ### rm -rf DupChecker.buildbin-libdir && mkdir DupChecker.buildbin-libdir && /Users/biocbuild/BBS/utils/build-universal.sh DupChecker_1.20.0.tar.gz /Library/Frameworks/R.framework/Versions/Current/Resources/bin/R DupChecker.buildbin-libdir ### ############################################################################## ############################################################################## >>>>>>> >>>>>>> INSTALLATION WITH 'R CMD INSTALL --preclean --no-multiarch --library=DupChecker.buildbin-libdir DupChecker_1.20.0.tar.gz' >>>>>>> * installing *source* package ‘DupChecker’ ... ** R ** inst ** byte-compile and prepare package for lazy loading ** help *** installing help indices ** building package indices ** installing vignettes ** testing if installed package can be loaded * DONE (DupChecker)