| Back to Multiple platform build/check report for BioC 3.8 |
|
This page was generated on 2019-04-16 11:56:39 -0400 (Tue, 16 Apr 2019).
| Package 435/1649 | Hostname | OS / Arch | INSTALL | BUILD | CHECK | BUILD BIN | ||||||
| DriverNet 1.22.0 Jiarui Ding
| malbec1 | Linux (Ubuntu 16.04.6 LTS) / x86_64 | OK | OK | OK | |||||||
| merida1 | OS X 10.11.6 El Capitan / x86_64 | OK | OK | [ OK ] | OK |
| Package: DriverNet |
| Version: 1.22.0 |
| Command: /Library/Frameworks/R.framework/Versions/Current/Resources/bin/R CMD check --install=check:DriverNet.install-out.txt --library=/Library/Frameworks/R.framework/Versions/Current/Resources/library --no-vignettes --timings DriverNet_1.22.0.tar.gz |
| StartedAt: 2019-04-15 23:38:15 -0400 (Mon, 15 Apr 2019) |
| EndedAt: 2019-04-15 23:39:45 -0400 (Mon, 15 Apr 2019) |
| EllapsedTime: 90.4 seconds |
| RetCode: 0 |
| Status: OK |
| CheckDir: DriverNet.Rcheck |
| Warnings: 0 |
##############################################################################
##############################################################################
###
### Running command:
###
### /Library/Frameworks/R.framework/Versions/Current/Resources/bin/R CMD check --install=check:DriverNet.install-out.txt --library=/Library/Frameworks/R.framework/Versions/Current/Resources/library --no-vignettes --timings DriverNet_1.22.0.tar.gz
###
##############################################################################
##############################################################################
* using log directory ‘/Users/biocbuild/bbs-3.8-bioc/meat/DriverNet.Rcheck’
* using R version 3.5.3 (2019-03-11)
* using platform: x86_64-apple-darwin15.6.0 (64-bit)
* using session charset: UTF-8
* using option ‘--no-vignettes’
* checking for file ‘DriverNet/DESCRIPTION’ ... OK
* checking extension type ... Package
* this is package ‘DriverNet’ version ‘1.22.0’
* checking package namespace information ... OK
* checking package dependencies ... OK
* checking if this is a source package ... OK
* checking if there is a namespace ... OK
* checking for hidden files and directories ... OK
* checking for portable file names ... OK
* checking for sufficient/correct file permissions ... OK
* checking whether package ‘DriverNet’ can be installed ... OK
* checking installed package size ... OK
* checking package directory ... OK
* checking ‘build’ directory ... OK
* checking DESCRIPTION meta-information ... OK
* checking top-level files ... OK
* checking for left-over files ... OK
* checking index information ... OK
* checking package subdirectories ... OK
* checking R files for non-ASCII characters ... OK
* checking R files for syntax errors ... OK
* checking whether the package can be loaded ... OK
* checking whether the package can be loaded with stated dependencies ... OK
* checking whether the package can be unloaded cleanly ... OK
* checking whether the namespace can be loaded with stated dependencies ... OK
* checking whether the namespace can be unloaded cleanly ... OK
* checking dependencies in R code ... NOTE
Package in Depends field not imported from: ‘methods’
These packages need to be imported from (in the NAMESPACE file)
for when this namespace is loaded but not attached.
* checking S3 generic/method consistency ... OK
* checking replacement functions ... OK
* checking foreign function calls ... OK
* checking R code for possible problems ... NOTE
.computeDriversHelper: no visible global function definition for ‘new’
getPatientOutlierMatrix: no visible binding for global variable ‘sd’
getPatientOutlierMatrix: no visible global function definition for
‘dnorm’
resultSummary: no visible global function definition for ‘write.table’
Undefined global functions or variables:
dnorm new sd write.table
Consider adding
importFrom("methods", "new")
importFrom("stats", "dnorm", "sd")
importFrom("utils", "write.table")
to your NAMESPACE file (and ensure that your DESCRIPTION Imports field
contains 'methods').
* checking Rd files ... OK
* checking Rd metadata ... OK
* checking Rd cross-references ... OK
* checking for missing documentation entries ... OK
* checking for code/documentation mismatches ... OK
* checking Rd \usage sections ... OK
* checking Rd contents ... OK
* checking for unstated dependencies in examples ... OK
* checking contents of ‘data’ directory ... OK
* checking data for non-ASCII characters ... OK
* checking data for ASCII and uncompressed saves ... OK
* checking sizes of PDF files under ‘inst/doc’ ... OK
* checking files in ‘vignettes’ ... OK
* checking examples ... OK
Examples with CPU or elapsed time > 5s
user system elapsed
DriverNet-package 30.478 1.086 31.952
computeDrivers 18.339 0.806 19.355
computeRandomizedResult 12.263 0.070 12.466
* checking for unstated dependencies in vignettes ... OK
* checking package vignettes in ‘inst/doc’ ... OK
* checking running R code from vignettes ... SKIPPED
* checking re-building of vignette outputs ... SKIPPED
* checking PDF version of manual ... OK
* DONE
Status: 2 NOTEs
See
‘/Users/biocbuild/bbs-3.8-bioc/meat/DriverNet.Rcheck/00check.log’
for details.
DriverNet.Rcheck/00install.out
############################################################################## ############################################################################## ### ### Running command: ### ### /Library/Frameworks/R.framework/Versions/Current/Resources/bin/R CMD INSTALL DriverNet ### ############################################################################## ############################################################################## * installing to library ‘/Library/Frameworks/R.framework/Versions/3.5/Resources/library’ * installing *source* package ‘DriverNet’ ... ** R ** data ** byte-compile and prepare package for lazy loading ** help *** installing help indices ** building package indices ** installing vignettes ** testing if installed package can be loaded * DONE (DriverNet)
DriverNet.Rcheck/DriverNet-Ex.timings
| name | user | system | elapsed | |
| DriverNet-package | 30.478 | 1.086 | 31.952 | |
| DriverNetResult-class | 0.024 | 0.002 | 0.027 | |
| actualEvents | 0.136 | 0.060 | 0.200 | |
| computeDrivers | 18.339 | 0.806 | 19.355 | |
| computeRandomizedResult | 12.263 | 0.070 | 12.466 | |
| drivers | 0.116 | 0.044 | 0.162 | |
| getPatientOutlierMatrix | 0.288 | 0.023 | 0.316 | |
| preprocessMatrices | 0.242 | 0.006 | 0.251 | |
| resultSummary | 0.282 | 0.006 | 0.290 | |
| sampleDriversList | 0.021 | 0.002 | 0.022 | |
| sampleGeneNames | 0.032 | 0.010 | 0.042 | |
| sampleInfluenceGraph | 0.223 | 0.005 | 0.230 | |
| samplePatientExpressionMatrix | 0.107 | 0.013 | 0.121 | |
| samplePatientMutationMatrix | 0.016 | 0.001 | 0.018 | |
| samplePatientOutlierMatrix | 0.019 | 0.001 | 0.020 | |
| sampleRandomDriversResult | 0.002 | 0.001 | 0.004 | |
| totalEvents | 0.021 | 0.001 | 0.022 | |