| Back to Multiple platform build/check report for BioC 3.8 |
|
This page was generated on 2019-04-16 11:49:35 -0400 (Tue, 16 Apr 2019).
| Package 416/1649 | Hostname | OS / Arch | INSTALL | BUILD | CHECK | BUILD BIN | ||||||
| DirichletMultinomial 1.24.1 Martin Morgan
| malbec1 | Linux (Ubuntu 16.04.6 LTS) / x86_64 | [ OK ] | OK | OK | |||||||
| merida1 | OS X 10.11.6 El Capitan / x86_64 | OK | OK | OK | OK |
| Package: DirichletMultinomial |
| Version: 1.24.1 |
| Command: /home/biocbuild/bbs-3.8-bioc/R/bin/R CMD INSTALL DirichletMultinomial |
| StartedAt: 2019-04-15 17:59:21 -0400 (Mon, 15 Apr 2019) |
| EndedAt: 2019-04-15 17:59:28 -0400 (Mon, 15 Apr 2019) |
| EllapsedTime: 7.7 seconds |
| RetCode: 0 |
| Status: OK |
##############################################################################
##############################################################################
###
### Running command:
###
### /home/biocbuild/bbs-3.8-bioc/R/bin/R CMD INSTALL DirichletMultinomial
###
##############################################################################
##############################################################################
* installing to library ‘/home/biocbuild/bbs-3.8-bioc/R/library’
* installing *source* package ‘DirichletMultinomial’ ...
** libs
gcc -I"/home/biocbuild/bbs-3.8-bioc/R/include" -DNDEBUG -I/usr/local/include `gsl-config --cflags` -DR_DIRICHLETMULTINOMIAL -fpic -g -O2 -Wall -c R_init_DirichletMultinomial.c -o R_init_DirichletMultinomial.o
gcc -I"/home/biocbuild/bbs-3.8-bioc/R/include" -DNDEBUG -I/usr/local/include `gsl-config --cflags` -DR_DIRICHLETMULTINOMIAL -fpic -g -O2 -Wall -c dirichlet_fit.c -o dirichlet_fit.o
gcc -I"/home/biocbuild/bbs-3.8-bioc/R/include" -DNDEBUG -I/usr/local/include `gsl-config --cflags` -DR_DIRICHLETMULTINOMIAL -fpic -g -O2 -Wall -c dirichlet_fit_main.c -o dirichlet_fit_main.o
dirichlet_fit_main.c: In function ‘dirichlet_fit_main’:
dirichlet_fit_main.c:542:17: warning: variable ‘status’ set but not used [-Wunused-but-set-variable]
int signum, status;
^
gcc -shared -L/home/biocbuild/bbs-3.8-bioc/R/lib -L/usr/local/lib -o DirichletMultinomial.so R_init_DirichletMultinomial.o dirichlet_fit.o dirichlet_fit_main.o -L/usr/lib/x86_64-linux-gnu -lgsl -lgslcblas -lm -L/home/biocbuild/bbs-3.8-bioc/R/lib -lR
installing to /home/biocbuild/bbs-3.8-bioc/R/library/DirichletMultinomial/libs
** R
** data
** inst
** byte-compile and prepare package for lazy loading
** help
*** installing help indices
** building package indices
** installing vignettes
** testing if installed package can be loaded
* DONE (DirichletMultinomial)