| Back to Multiple platform build/check report for BioC 3.8 |
|
This page was generated on 2019-04-16 11:52:13 -0400 (Tue, 16 Apr 2019).
| Package 382/1649 | Hostname | OS / Arch | INSTALL | BUILD | CHECK | BUILD BIN | ||||||
| DeepBlueR 1.8.1 Felipe Albrecht
| malbec1 | Linux (Ubuntu 16.04.6 LTS) / x86_64 | OK | OK | [ OK ] | |||||||
| merida1 | OS X 10.11.6 El Capitan / x86_64 | OK | OK | OK | OK |
| Package: DeepBlueR |
| Version: 1.8.1 |
| Command: /home/biocbuild/bbs-3.8-bioc/R/bin/R CMD check --install=check:DeepBlueR.install-out.txt --library=/home/biocbuild/bbs-3.8-bioc/R/library --no-vignettes --timings DeepBlueR_1.8.1.tar.gz |
| StartedAt: 2019-04-15 23:21:54 -0400 (Mon, 15 Apr 2019) |
| EndedAt: 2019-04-15 23:26:44 -0400 (Mon, 15 Apr 2019) |
| EllapsedTime: 289.6 seconds |
| RetCode: 0 |
| Status: OK |
| CheckDir: DeepBlueR.Rcheck |
| Warnings: 0 |
##############################################################################
##############################################################################
###
### Running command:
###
### /home/biocbuild/bbs-3.8-bioc/R/bin/R CMD check --install=check:DeepBlueR.install-out.txt --library=/home/biocbuild/bbs-3.8-bioc/R/library --no-vignettes --timings DeepBlueR_1.8.1.tar.gz
###
##############################################################################
##############################################################################
* using log directory ‘/home/biocbuild/bbs-3.8-bioc/meat/DeepBlueR.Rcheck’
* using R version 3.5.3 (2019-03-11)
* using platform: x86_64-pc-linux-gnu (64-bit)
* using session charset: UTF-8
* using option ‘--no-vignettes’
* checking for file ‘DeepBlueR/DESCRIPTION’ ... OK
* checking extension type ... Package
* this is package ‘DeepBlueR’ version ‘1.8.1’
* checking package namespace information ... OK
* checking package dependencies ... OK
* checking if this is a source package ... OK
* checking if there is a namespace ... OK
* checking for hidden files and directories ... OK
* checking for portable file names ... OK
* checking for sufficient/correct file permissions ... OK
* checking whether package ‘DeepBlueR’ can be installed ... OK
* checking installed package size ... OK
* checking package directory ... OK
* checking ‘build’ directory ... OK
* checking DESCRIPTION meta-information ... OK
* checking top-level files ... OK
* checking for left-over files ... OK
* checking index information ... OK
* checking package subdirectories ... OK
* checking R files for non-ASCII characters ... OK
* checking R files for syntax errors ... OK
* checking whether the package can be loaded ... OK
* checking whether the package can be loaded with stated dependencies ... OK
* checking whether the package can be unloaded cleanly ... OK
* checking whether the namespace can be loaded with stated dependencies ... OK
* checking whether the namespace can be unloaded cleanly ... OK
* checking dependencies in R code ... OK
* checking S3 generic/method consistency ... OK
* checking replacement functions ... OK
* checking foreign function calls ... OK
* checking R code for possible problems ... OK
* checking Rd files ... NOTE
prepare_Rd: deepblue_enrich_regions_fast.Rd:35-38: Dropping empty section \examples
* checking Rd metadata ... OK
* checking Rd cross-references ... OK
* checking for missing documentation entries ... OK
* checking for code/documentation mismatches ... OK
* checking Rd \usage sections ... OK
* checking Rd contents ... OK
* checking for unstated dependencies in examples ... OK
* checking files in ‘vignettes’ ... OK
* checking examples ... OK
Examples with CPU or elapsed time > 5s
user system elapsed
deepblue_batch_export_results 1.116 0.02 5.028
* checking for unstated dependencies in vignettes ... OK
* checking package vignettes in ‘inst/doc’ ... OK
* checking running R code from vignettes ... SKIPPED
* checking re-building of vignette outputs ... SKIPPED
* checking PDF version of manual ... OK
* DONE
Status: 1 NOTE
See
‘/home/biocbuild/bbs-3.8-bioc/meat/DeepBlueR.Rcheck/00check.log’
for details.
DeepBlueR.Rcheck/00install.out
############################################################################## ############################################################################## ### ### Running command: ### ### /home/biocbuild/bbs-3.8-bioc/R/bin/R CMD INSTALL DeepBlueR ### ############################################################################## ############################################################################## * installing to library ‘/home/biocbuild/bbs-3.8-bioc/R/library’ * installing *source* package ‘DeepBlueR’ ... ** R ** demo ** inst ** byte-compile and prepare package for lazy loading Called method: deepblue_list_column_types Reported status was: okay Called method: deepblue_info Reported status was: okay ** help *** installing help indices ** building package indices ** installing vignettes ** testing if installed package can be loaded * DONE (DeepBlueR)
DeepBlueR.Rcheck/DeepBlueR-Ex.timings
| name | user | system | elapsed | |
| deepblue_aggregate | 0.080 | 0.004 | 1.066 | |
| deepblue_batch_export_results | 1.116 | 0.020 | 5.028 | |
| deepblue_binning | 0.048 | 0.000 | 0.748 | |
| deepblue_cache_status | 0.000 | 0.000 | 0.002 | |
| deepblue_cancel_request | 0.016 | 0.000 | 0.257 | |
| deepblue_chromosomes | 0.064 | 0.000 | 0.341 | |
| deepblue_clear_cache | 0.004 | 0.000 | 0.001 | |
| deepblue_collection_experiments_count | 0.256 | 0.000 | 0.680 | |
| deepblue_commands | 0.136 | 0.004 | 1.101 | |
| deepblue_count_gene_ontology_terms | 0.256 | 0.024 | 0.640 | |
| deepblue_count_regions | 0.040 | 0.004 | 0.560 | |
| deepblue_coverage | 0.044 | 0.000 | 0.593 | |
| deepblue_delete_request_from_cache | 0.000 | 0.000 | 0.002 | |
| deepblue_diff | 0.112 | 0.028 | 0.643 | |
| deepblue_distinct_column_values | 0.044 | 0.000 | 0.570 | |
| deepblue_download_request_data | 0.232 | 0.020 | 1.782 | |
| deepblue_echo | 0.012 | 0.000 | 0.246 | |
| deepblue_enrich_regions_go_terms | 0.068 | 0.000 | 0.875 | |
| deepblue_enrich_regions_overlap | 0.672 | 0.000 | 4.099 | |
| deepblue_export_bed | 0.208 | 0.020 | 2.389 | |
| deepblue_export_meta_data | 0.060 | 0.020 | 0.428 | |
| deepblue_export_tab | 0.148 | 0.008 | 1.253 | |
| deepblue_extend | 0.044 | 0.008 | 0.580 | |
| deepblue_extract_ids | 0.004 | 0.000 | 0.001 | |
| deepblue_extract_names | 0 | 0 | 0 | |
| deepblue_faceting_experiments | 0.032 | 0.004 | 0.559 | |
| deepblue_filter_regions | 0.024 | 0.000 | 0.287 | |
| deepblue_find_motif | 0.024 | 0.000 | 0.293 | |
| deepblue_flank | 0.048 | 0.000 | 0.596 | |
| deepblue_get_biosource_children | 0.016 | 0.000 | 0.321 | |
| deepblue_get_biosource_parents | 0.020 | 0.000 | 0.369 | |
| deepblue_get_biosource_related | 0.024 | 0.000 | 0.319 | |
| deepblue_get_biosource_synonyms | 0.020 | 0.000 | 0.285 | |
| deepblue_get_experiments_by_query | 0.016 | 0.004 | 0.341 | |
| deepblue_get_regions | 0.040 | 0.000 | 0.545 | |
| deepblue_get_request_data | 0.076 | 0.000 | 1.039 | |
| deepblue_info | 0.044 | 0.000 | 0.325 | |
| deepblue_input_regions | 0.024 | 0.000 | 0.258 | |
| deepblue_intersection | 0.060 | 0.000 | 0.766 | |
| deepblue_is_biosource | 0.016 | 0.000 | 0.279 | |
| deepblue_liftover | 0.516 | 0.028 | 4.136 | |
| deepblue_list_annotations | 0.028 | 0.000 | 0.301 | |
| deepblue_list_biosources | 0.020 | 0.000 | 0.278 | |
| deepblue_list_cached_requests | 0.000 | 0.000 | 0.002 | |
| deepblue_list_column_types | 0.144 | 0.000 | 0.445 | |
| deepblue_list_epigenetic_marks | 0.564 | 0.004 | 1.432 | |
| deepblue_list_experiments | 0.228 | 0.000 | 0.670 | |
| deepblue_list_expressions | 0.252 | 0.000 | 0.647 | |
| deepblue_list_gene_models | 0.016 | 0.000 | 0.278 | |
| deepblue_list_genes | 0.364 | 0.032 | 1.491 | |
| deepblue_list_genomes | 0.020 | 0.000 | 0.293 | |
| deepblue_list_in_use | 0.648 | 0.000 | 2.008 | |
| deepblue_list_projects | 0.020 | 0.000 | 0.297 | |
| deepblue_list_recent_experiments | 0.032 | 0.000 | 0.303 | |
| deepblue_list_requests | 0.016 | 0.000 | 0.354 | |
| deepblue_list_samples | 0.180 | 0.000 | 0.941 | |
| deepblue_list_similar_biosources | 0.024 | 0.000 | 0.451 | |
| deepblue_list_similar_epigenetic_marks | 0.020 | 0.008 | 0.336 | |
| deepblue_list_similar_experiments | 0.024 | 0.000 | 0.841 | |
| deepblue_list_similar_genomes | 0.020 | 0.000 | 0.253 | |
| deepblue_list_similar_projects | 0.024 | 0.000 | 0.264 | |
| deepblue_list_similar_techniques | 0.020 | 0.000 | 0.289 | |
| deepblue_list_techniques | 0.028 | 0.000 | 0.307 | |
| deepblue_merge_queries | 0.068 | 0.004 | 0.957 | |
| deepblue_meta_data_to_table | 0.112 | 0.000 | 0.704 | |
| deepblue_name_to_id | 0.048 | 0.000 | 0.890 | |
| deepblue_overlap | 0.072 | 0.004 | 0.790 | |
| deepblue_preview_experiment | 0.020 | 0.000 | 0.271 | |
| deepblue_query_cache | 0.076 | 0.004 | 1.214 | |
| deepblue_query_experiment_type | 0.056 | 0.004 | 0.565 | |
| deepblue_reset_options | 0.000 | 0.000 | 0.001 | |
| deepblue_score_matrix | 0.048 | 0.000 | 0.651 | |
| deepblue_search | 0.052 | 0.000 | 0.622 | |
| deepblue_select_annotations | 0.024 | 0.000 | 0.265 | |
| deepblue_select_column | 0.540 | 0.000 | 1.561 | |
| deepblue_select_experiments | 0.020 | 0.000 | 0.254 | |
| deepblue_select_expressions | 0.028 | 0.000 | 0.395 | |
| deepblue_select_genes | 0.024 | 0.004 | 0.408 | |
| deepblue_select_regions | 0.036 | 0.000 | 0.271 | |
| deepblue_tiling_regions | 0.024 | 0.000 | 0.285 | |