| Back to Multiple platform build/check report for BioC 3.8 |
|
This page was generated on 2019-04-16 11:56:05 -0400 (Tue, 16 Apr 2019).
| Package 440/1649 | Hostname | OS / Arch | INSTALL | BUILD | CHECK | BUILD BIN | ||||||
| DTA 2.28.0 Bjoern Schwalb
| malbec1 | Linux (Ubuntu 16.04.6 LTS) / x86_64 | OK | OK | OK | |||||||
| merida1 | OS X 10.11.6 El Capitan / x86_64 | OK | OK | OK | [ OK ] |
| Package: DTA |
| Version: 2.28.0 |
| Command: rm -rf DTA.buildbin-libdir && mkdir DTA.buildbin-libdir && /Users/biocbuild/BBS/utils/build-universal.sh DTA_2.28.0.tar.gz /Library/Frameworks/R.framework/Versions/Current/Resources/bin/R DTA.buildbin-libdir |
| StartedAt: 2019-04-16 03:58:49 -0400 (Tue, 16 Apr 2019) |
| EndedAt: 2019-04-16 03:59:26 -0400 (Tue, 16 Apr 2019) |
| EllapsedTime: 36.4 seconds |
| RetCode: 0 |
| Status: OK |
| PackageFile: DTA_2.28.0.tgz |
| PackageFileSize: 9.159 MiB |
############################################################################## ############################################################################## ### ### Running command: ### ### rm -rf DTA.buildbin-libdir && mkdir DTA.buildbin-libdir && /Users/biocbuild/BBS/utils/build-universal.sh DTA_2.28.0.tar.gz /Library/Frameworks/R.framework/Versions/Current/Resources/bin/R DTA.buildbin-libdir ### ############################################################################## ############################################################################## >>>>>>> >>>>>>> INSTALLATION WITH 'R CMD INSTALL --preclean --no-multiarch --library=DTA.buildbin-libdir DTA_2.28.0.tar.gz' >>>>>>> * installing *source* package ‘DTA’ ... ** R ** data ** inst ** byte-compile and prepare package for lazy loading ** help *** installing help indices ** building package indices ** installing vignettes ** testing if installed package can be loaded * DONE (DTA)