| Back to Multiple platform build/check report for BioC 3.8 |
|
This page was generated on 2019-04-13 11:22:12 -0400 (Sat, 13 Apr 2019).
| Package 439/1649 | Hostname | OS / Arch | INSTALL | BUILD | CHECK | BUILD BIN | ||||||
| DSS 2.30.1 Hao Wu
| malbec1 | Linux (Ubuntu 16.04.6 LTS) / x86_64 | OK | OK | OK | |||||||
| tokay1 | Windows Server 2012 R2 Standard / x64 | OK | OK | OK | [ OK ] | |||||||
| merida1 | OS X 10.11.6 El Capitan / x86_64 | OK | OK | OK | OK |
| Package: DSS |
| Version: 2.30.1 |
| Command: rm -rf DSS.buildbin-libdir && mkdir DSS.buildbin-libdir && C:\Users\biocbuild\bbs-3.8-bioc\R\bin\R.exe CMD INSTALL --merge-multiarch --build --library=DSS.buildbin-libdir DSS_2.30.1.tar.gz |
| StartedAt: 2019-04-13 07:12:33 -0400 (Sat, 13 Apr 2019) |
| EndedAt: 2019-04-13 07:13:08 -0400 (Sat, 13 Apr 2019) |
| EllapsedTime: 34.8 seconds |
| RetCode: 0 |
| Status: OK |
| PackageFile: DSS_2.30.1.zip |
| PackageFileSize: 994.2 KiB |
##############################################################################
##############################################################################
###
### Running command:
###
### rm -rf DSS.buildbin-libdir && mkdir DSS.buildbin-libdir && C:\Users\biocbuild\bbs-3.8-bioc\R\bin\R.exe CMD INSTALL --merge-multiarch --build --library=DSS.buildbin-libdir DSS_2.30.1.tar.gz
###
##############################################################################
##############################################################################
install for i386
* installing *source* package 'DSS' ...
** libs
C:/Rtools/mingw_32/bin/gcc -I"C:/Users/BIOCBU˜1/BBS-3˜1.8-B/R/include" -DNDEBUG -I"C:/extsoft/include" -O3 -Wall -std=gnu99 -mtune=generic -c compute_var_smooth.c -o compute_var_smooth.o
C:/Rtools/mingw_32/bin/gcc -I"C:/Users/BIOCBU˜1/BBS-3˜1.8-B/R/include" -DNDEBUG -I"C:/extsoft/include" -O3 -Wall -std=gnu99 -mtune=generic -c filter.c -o filter.o
C:/Rtools/mingw_32/bin/gcc -I"C:/Users/BIOCBU˜1/BBS-3˜1.8-B/R/include" -DNDEBUG -I"C:/extsoft/include" -O3 -Wall -std=gnu99 -mtune=generic -c nitem.c -o nitem.o
C:/Rtools/mingw_32/bin/gcc -shared -s -static-libgcc -o DSS.dll tmp.def compute_var_smooth.o filter.o nitem.o -LC:/extsoft/lib/i386 -LC:/extsoft/lib -LC:/Users/BIOCBU˜1/BBS-3˜1.8-B/R/bin/i386 -lR
installing to C:/Users/biocbuild/bbs-3.8-bioc/meat/DSS.buildbin-libdir/DSS/libs/i386
** R
** data
** inst
** byte-compile and prepare package for lazy loading
** help
*** installing help indices
converting help for package 'DSS'
finding HTML links ... done
DMLfit.multiFactor html
DMLtest html
DMLtest.multiFactor html
DSS-package html
DSS.DE html
RRBS html
SeqCountSet-class html
finding level-2 HTML links ... done
callDML html
callDMR html
design html
dispersion html
estDispersion html
estNormFactors html
makeBSseqData html
normalizationFactor html
seqData html
showOneDMR html
waldTest html
** building package indices
** installing vignettes
** testing if installed package can be loaded
In R CMD INSTALL
install for x64
* installing *source* package 'DSS' ...
** libs
C:/Rtools/mingw_64/bin/gcc -I"C:/Users/BIOCBU˜1/BBS-3˜1.8-B/R/include" -DNDEBUG -I"C:/extsoft/include" -O2 -Wall -std=gnu99 -mtune=generic -c compute_var_smooth.c -o compute_var_smooth.o
C:/Rtools/mingw_64/bin/gcc -I"C:/Users/BIOCBU˜1/BBS-3˜1.8-B/R/include" -DNDEBUG -I"C:/extsoft/include" -O2 -Wall -std=gnu99 -mtune=generic -c filter.c -o filter.o
C:/Rtools/mingw_64/bin/gcc -I"C:/Users/BIOCBU˜1/BBS-3˜1.8-B/R/include" -DNDEBUG -I"C:/extsoft/include" -O2 -Wall -std=gnu99 -mtune=generic -c nitem.c -o nitem.o
C:/Rtools/mingw_64/bin/gcc -shared -s -static-libgcc -o DSS.dll tmp.def compute_var_smooth.o filter.o nitem.o -LC:/extsoft/lib/x64 -LC:/extsoft/lib -LC:/Users/BIOCBU˜1/BBS-3˜1.8-B/R/bin/x64 -lR
installing to C:/Users/biocbuild/bbs-3.8-bioc/meat/DSS.buildbin-libdir/DSS/libs/x64
** testing if installed package can be loaded
* MD5 sums
packaged installation of 'DSS' as DSS_2.30.1.zip
* DONE (DSS)
In R CMD INSTALL
In R CMD INSTALL