| Back to Multiple platform build/check report for BioC 3.8 |
|
This page was generated on 2019-04-16 11:55:35 -0400 (Tue, 16 Apr 2019).
| Package 432/1649 | Hostname | OS / Arch | INSTALL | BUILD | CHECK | BUILD BIN | ||||||
| DOSE 3.8.2 Guangchuang Yu
| malbec1 | Linux (Ubuntu 16.04.6 LTS) / x86_64 | OK | OK | OK | |||||||
| merida1 | OS X 10.11.6 El Capitan / x86_64 | OK | OK | OK | [ OK ] |
| Package: DOSE |
| Version: 3.8.2 |
| Command: rm -rf DOSE.buildbin-libdir && mkdir DOSE.buildbin-libdir && /Users/biocbuild/BBS/utils/build-universal.sh DOSE_3.8.2.tar.gz /Library/Frameworks/R.framework/Versions/Current/Resources/bin/R DOSE.buildbin-libdir |
| StartedAt: 2019-04-16 03:58:27 -0400 (Tue, 16 Apr 2019) |
| EndedAt: 2019-04-16 03:59:09 -0400 (Tue, 16 Apr 2019) |
| EllapsedTime: 41.9 seconds |
| RetCode: 0 |
| Status: OK |
| PackageFile: DOSE_3.8.2.tgz |
| PackageFileSize: 4.223 MiB |
############################################################################## ############################################################################## ### ### Running command: ### ### rm -rf DOSE.buildbin-libdir && mkdir DOSE.buildbin-libdir && /Users/biocbuild/BBS/utils/build-universal.sh DOSE_3.8.2.tar.gz /Library/Frameworks/R.framework/Versions/Current/Resources/bin/R DOSE.buildbin-libdir ### ############################################################################## ############################################################################## >>>>>>> >>>>>>> INSTALLATION WITH 'R CMD INSTALL --preclean --no-multiarch --library=DOSE.buildbin-libdir DOSE_3.8.2.tar.gz' >>>>>>> * installing *source* package ‘DOSE’ ... ** R ** data ** inst ** byte-compile and prepare package for lazy loading ** help *** installing help indices ** building package indices ** installing vignettes ** testing if installed package can be loaded * DONE (DOSE)