| Back to Multiple platform build/check report for BioC 3.8 | 
 | 
This page was generated on 2019-04-13 11:20:46 -0400 (Sat, 13 Apr 2019).
| Package 405/1649 | Hostname | OS / Arch | INSTALL | BUILD | CHECK | BUILD BIN | ||||||
| DFP 1.40.0 Rodrigo Alvarez-Glez 
 | malbec1 | Linux (Ubuntu 16.04.6 LTS) / x86_64 | OK | OK | OK |  | ||||||
| tokay1 | Windows Server 2012 R2 Standard / x64 | OK | OK | OK | [ OK ] |  | ||||||
| merida1 | OS X 10.11.6 El Capitan / x86_64 | OK | OK | OK | OK |  | 
| Package: DFP | 
| Version: 1.40.0 | 
| Command: rm -rf DFP.buildbin-libdir && mkdir DFP.buildbin-libdir && C:\Users\biocbuild\bbs-3.8-bioc\R\bin\R.exe CMD INSTALL --merge-multiarch --build --library=DFP.buildbin-libdir DFP_1.40.0.tar.gz | 
| StartedAt: 2019-04-13 07:10:35 -0400 (Sat, 13 Apr 2019) | 
| EndedAt: 2019-04-13 07:10:59 -0400 (Sat, 13 Apr 2019) | 
| EllapsedTime: 24.4 seconds | 
| RetCode: 0 | 
| Status: OK | 
| PackageFile: DFP_1.40.0.zip | 
| PackageFileSize: 581.3 KiB | 
##############################################################################
##############################################################################
###
### Running command:
###
###   rm -rf DFP.buildbin-libdir && mkdir DFP.buildbin-libdir && C:\Users\biocbuild\bbs-3.8-bioc\R\bin\R.exe CMD INSTALL --merge-multiarch --build --library=DFP.buildbin-libdir DFP_1.40.0.tar.gz
###
##############################################################################
##############################################################################
install for i386
* installing *source* package 'DFP' ...
** R
** data
** inst
** byte-compile and prepare package for lazy loading
** help
*** installing help indices
  converting help for package 'DFP'
    finding HTML links ... done
    DFP-internal                            html  
    DFP-package                             html  
    ExpressionLevel-class                   html  
    HighExpressionLevel-class               html  
    LowExpressionLevel-class                html  
    MediumExpressionLevel-class             html  
    calculateDiscriminantFuzzyPattern       html  
    calculateFuzzyPatterns                  html  
    calculateMembershipFunctions            html  
    discretizeExpressionValues              html  
    discriminantFuzzyPattern                html  
    plotDiscriminantFuzzyPattern            html  
    plotMembershipFunctions                 html  
    readCSV                                 html  
    rmadataset                              html  
    show-methods                            html  
    showDiscreteValues                      html  
    showFuzzyPatterns                       html  
** building package indices
** installing vignettes
** testing if installed package can be loaded
In R CMD INSTALL
install for x64
* installing *source* package 'DFP' ...
** testing if installed package can be loaded
* MD5 sums
packaged installation of 'DFP' as DFP_1.40.0.zip
* DONE (DFP)
In R CMD INSTALL
In R CMD INSTALL