| Back to Multiple platform build/check report for BioC 3.8 |
|
This page was generated on 2019-04-16 11:59:28 -0400 (Tue, 16 Apr 2019).
| Package 384/1649 | Hostname | OS / Arch | INSTALL | BUILD | CHECK | BUILD BIN | ||||||
| DEFormats 1.10.1 Andrzej OleÅ›
| malbec1 | Linux (Ubuntu 16.04.6 LTS) / x86_64 | OK | OK | OK | |||||||
| merida1 | OS X 10.11.6 El Capitan / x86_64 | [ OK ] | OK | OK | OK |
| Package: DEFormats |
| Version: 1.10.1 |
| Command: /Library/Frameworks/R.framework/Versions/Current/Resources/bin/R CMD INSTALL DEFormats |
| StartedAt: 2019-04-15 18:39:21 -0400 (Mon, 15 Apr 2019) |
| EndedAt: 2019-04-15 18:39:42 -0400 (Mon, 15 Apr 2019) |
| EllapsedTime: 21.0 seconds |
| RetCode: 0 |
| Status: OK |
##############################################################################
##############################################################################
###
### Running command:
###
### /Library/Frameworks/R.framework/Versions/Current/Resources/bin/R CMD INSTALL DEFormats
###
##############################################################################
##############################################################################
* installing to library ‘/Library/Frameworks/R.framework/Versions/3.5/Resources/library’
* installing *source* package ‘DEFormats’ ...
** R
** inst
** byte-compile and prepare package for lazy loading
Creating a generic function for ‘DGEList’ from ‘edgeR’ in package ‘DEFormats’
(from the saved implicit definition)
** help
*** installing help indices
** building package indices
** installing vignettes
** testing if installed package can be loaded
* DONE (DEFormats)