| Back to Multiple platform build/check report for BioC 3.8 | 
  | 
This page was generated on 2019-04-16 11:59:12 -0400 (Tue, 16 Apr 2019).
| Package 346/1649 | Hostname | OS / Arch | INSTALL | BUILD | CHECK | BUILD BIN | ||||||
| CrispRVariants 1.10.1 Helen Lindsay 
  | malbec1 | Linux (Ubuntu 16.04.6 LTS) / x86_64 | OK | OK | WARNINGS | |||||||
| merida1 | OS X 10.11.6 El Capitan / x86_64 | OK | OK | WARNINGS | [ OK ] | 
| Package: CrispRVariants | 
| Version: 1.10.1 | 
| Command: rm -rf CrispRVariants.buildbin-libdir && mkdir CrispRVariants.buildbin-libdir && /Users/biocbuild/BBS/utils/build-universal.sh CrispRVariants_1.10.1.tar.gz /Library/Frameworks/R.framework/Versions/Current/Resources/bin/R CrispRVariants.buildbin-libdir | 
| StartedAt: 2019-04-16 03:54:21 -0400 (Tue, 16 Apr 2019) | 
| EndedAt: 2019-04-16 03:55:04 -0400 (Tue, 16 Apr 2019) | 
| EllapsedTime: 43.0 seconds | 
| RetCode: 0 | 
| Status: OK | 
| PackageFile: CrispRVariants_1.10.1.tgz | 
| PackageFileSize: 1.606 MiB | 
############################################################################## ############################################################################## ### ### Running command: ### ### rm -rf CrispRVariants.buildbin-libdir && mkdir CrispRVariants.buildbin-libdir && /Users/biocbuild/BBS/utils/build-universal.sh CrispRVariants_1.10.1.tar.gz /Library/Frameworks/R.framework/Versions/Current/Resources/bin/R CrispRVariants.buildbin-libdir ### ############################################################################## ############################################################################## >>>>>>> >>>>>>> INSTALLATION WITH 'R CMD INSTALL --preclean --no-multiarch --library=CrispRVariants.buildbin-libdir CrispRVariants_1.10.1.tar.gz' >>>>>>> * installing *source* package ‘CrispRVariants’ ... ** R ** data *** moving datasets to lazyload DB ** inst ** byte-compile and prepare package for lazy loading ** help *** installing help indices ** building package indices ** installing vignettes ** testing if installed package can be loaded * DONE (CrispRVariants)