| Back to Multiple platform build/check report for BioC 3.8 | 
 | 
This page was generated on 2019-04-16 11:59:27 -0400 (Tue, 16 Apr 2019).
| Package 336/1649 | Hostname | OS / Arch | INSTALL | BUILD | CHECK | BUILD BIN | ||||||
| CountClust 1.10.1 Kushal Dey 
 | malbec1 | Linux (Ubuntu 16.04.6 LTS) / x86_64 | OK | OK | OK |  | ||||||
| merida1 | OS X 10.11.6 El Capitan / x86_64 | OK | OK | OK | [ OK ] |  | 
| Package: CountClust | 
| Version: 1.10.1 | 
| Command: rm -rf CountClust.buildbin-libdir && mkdir CountClust.buildbin-libdir && /Users/biocbuild/BBS/utils/build-universal.sh CountClust_1.10.1.tar.gz /Library/Frameworks/R.framework/Versions/Current/Resources/bin/R CountClust.buildbin-libdir | 
| StartedAt: 2019-04-16 03:53:57 -0400 (Tue, 16 Apr 2019) | 
| EndedAt: 2019-04-16 03:54:35 -0400 (Tue, 16 Apr 2019) | 
| EllapsedTime: 38.2 seconds | 
| RetCode: 0 | 
| Status: OK | 
| PackageFile: CountClust_1.10.1.tgz | 
| PackageFileSize: 6.751 MiB | 
############################################################################## ############################################################################## ### ### Running command: ### ### rm -rf CountClust.buildbin-libdir && mkdir CountClust.buildbin-libdir && /Users/biocbuild/BBS/utils/build-universal.sh CountClust_1.10.1.tar.gz /Library/Frameworks/R.framework/Versions/Current/Resources/bin/R CountClust.buildbin-libdir ### ############################################################################## ############################################################################## >>>>>>> >>>>>>> INSTALLATION WITH 'R CMD INSTALL --preclean --no-multiarch --library=CountClust.buildbin-libdir CountClust_1.10.1.tar.gz' >>>>>>> * installing *source* package ‘CountClust’ ... ** R ** data *** moving datasets to lazyload DB ** inst ** byte-compile and prepare package for lazy loading ** help *** installing help indices ** building package indices ** installing vignettes ** testing if installed package can be loaded * DONE (CountClust)