| Back to Multiple platform build/check report for BioC 3.8 | 
 | 
This page was generated on 2019-04-16 11:55:10 -0400 (Tue, 16 Apr 2019).
| Package 318/1649 | Hostname | OS / Arch | INSTALL | BUILD | CHECK | BUILD BIN | ||||||
| ConsensusClusterPlus 1.46.0 Matt Wilkerson 
 | malbec1 | Linux (Ubuntu 16.04.6 LTS) / x86_64 | OK | OK | OK |  | ||||||
| merida1 | OS X 10.11.6 El Capitan / x86_64 | OK | OK | OK | [ OK ] |  | 
| Package: ConsensusClusterPlus | 
| Version: 1.46.0 | 
| Command: rm -rf ConsensusClusterPlus.buildbin-libdir && mkdir ConsensusClusterPlus.buildbin-libdir && /Users/biocbuild/BBS/utils/build-universal.sh ConsensusClusterPlus_1.46.0.tar.gz /Library/Frameworks/R.framework/Versions/Current/Resources/bin/R ConsensusClusterPlus.buildbin-libdir | 
| StartedAt: 2019-04-16 03:53:06 -0400 (Tue, 16 Apr 2019) | 
| EndedAt: 2019-04-16 03:53:52 -0400 (Tue, 16 Apr 2019) | 
| EllapsedTime: 45.3 seconds | 
| RetCode: 0 | 
| Status: OK | 
| PackageFile: ConsensusClusterPlus_1.46.0.tgz | 
| PackageFileSize: 322.1 KiB | 
############################################################################## ############################################################################## ### ### Running command: ### ### rm -rf ConsensusClusterPlus.buildbin-libdir && mkdir ConsensusClusterPlus.buildbin-libdir && /Users/biocbuild/BBS/utils/build-universal.sh ConsensusClusterPlus_1.46.0.tar.gz /Library/Frameworks/R.framework/Versions/Current/Resources/bin/R ConsensusClusterPlus.buildbin-libdir ### ############################################################################## ############################################################################## >>>>>>> >>>>>>> INSTALLATION WITH 'R CMD INSTALL --preclean --no-multiarch --library=ConsensusClusterPlus.buildbin-libdir ConsensusClusterPlus_1.46.0.tar.gz' >>>>>>> * installing *source* package ‘ConsensusClusterPlus’ ... ** R ** inst ** byte-compile and prepare package for lazy loading ** help *** installing help indices ** building package indices ** installing vignettes ** testing if installed package can be loaded * DONE (ConsensusClusterPlus)