| Back to Multiple platform build/check report for BioC 3.8 | 
 | 
This page was generated on 2019-04-13 11:26:40 -0400 (Sat, 13 Apr 2019).
| Package 281/1649 | Hostname | OS / Arch | INSTALL | BUILD | CHECK | BUILD BIN | ||||||
| ClusterSignificance 1.10.0 Jason T Serviss 
 | malbec1 | Linux (Ubuntu 16.04.6 LTS) / x86_64 | OK | OK | OK |  | ||||||
| tokay1 | Windows Server 2012 R2 Standard / x64 | [ OK ] | OK | OK | OK |  | ||||||
| merida1 | OS X 10.11.6 El Capitan / x86_64 | OK | OK | OK | OK |  | 
| Package: ClusterSignificance | 
| Version: 1.10.0 | 
| Command: C:\cygwin\bin\curl.exe -O https://malbec1.bioconductor.org/BBS/3.8/bioc/src/contrib/ClusterSignificance_1.10.0.tar.gz && rm -rf ClusterSignificance.buildbin-libdir && mkdir ClusterSignificance.buildbin-libdir && C:\Users\biocbuild\bbs-3.8-bioc\R\bin\R.exe CMD INSTALL --merge-multiarch --build --library=ClusterSignificance.buildbin-libdir ClusterSignificance_1.10.0.tar.gz && C:\Users\biocbuild\bbs-3.8-bioc\R\bin\R.exe CMD INSTALL ClusterSignificance_1.10.0.zip && rm ClusterSignificance_1.10.0.tar.gz ClusterSignificance_1.10.0.zip | 
| StartedAt: 2019-04-12 18:27:10 -0400 (Fri, 12 Apr 2019) | 
| EndedAt: 2019-04-12 18:28:02 -0400 (Fri, 12 Apr 2019) | 
| EllapsedTime: 51.8 seconds | 
| RetCode: 0 | 
| Status: OK | 
##############################################################################
##############################################################################
###
### Running command:
###
###   C:\cygwin\bin\curl.exe -O https://malbec1.bioconductor.org/BBS/3.8/bioc/src/contrib/ClusterSignificance_1.10.0.tar.gz && rm -rf ClusterSignificance.buildbin-libdir && mkdir ClusterSignificance.buildbin-libdir && C:\Users\biocbuild\bbs-3.8-bioc\R\bin\R.exe CMD INSTALL --merge-multiarch --build --library=ClusterSignificance.buildbin-libdir ClusterSignificance_1.10.0.tar.gz && C:\Users\biocbuild\bbs-3.8-bioc\R\bin\R.exe CMD INSTALL ClusterSignificance_1.10.0.zip && rm ClusterSignificance_1.10.0.tar.gz ClusterSignificance_1.10.0.zip
###
##############################################################################
##############################################################################
  % Total    % Received % Xferd  Average Speed   Time    Time     Time  Current
                                 Dload  Upload   Total   Spent    Left  Speed
  0     0    0     0    0     0      0      0 --:--:-- --:--:-- --:--:--     0
100  805k  100  805k    0     0  12.6M      0 --:--:-- --:--:-- --:--:-- 13.3M
install for i386
* installing *source* package 'ClusterSignificance' ...
** R
** data
*** moving datasets to lazyload DB
** inst
** byte-compile and prepare package for lazy loading
** help
*** installing help indices
  converting help for package 'ClusterSignificance'
    finding HTML links ... done
    ClusterSignificance-package             html  
    classify                                html  
    mlp                                     html  
    mlpMatrix                               html  
    pcp                                     html  
    pcpMatrix                               html  
    permute                                 html  
*** copying figures
** building package indices
** installing vignettes
** testing if installed package can be loaded
In R CMD INSTALL
install for x64
* installing *source* package 'ClusterSignificance' ...
** testing if installed package can be loaded
* MD5 sums
packaged installation of 'ClusterSignificance' as ClusterSignificance_1.10.0.zip
* DONE (ClusterSignificance)
In R CMD INSTALL
In R CMD INSTALL
* installing to library 'C:/Users/biocbuild/bbs-3.8-bioc/R/library'
package 'ClusterSignificance' successfully unpacked and MD5 sums checked
In R CMD INSTALL