| Back to Multiple platform build/check report for BioC 3.8 |
|
This page was generated on 2019-04-13 11:23:36 -0400 (Sat, 13 Apr 2019).
| Package 271/1649 | Hostname | OS / Arch | INSTALL | BUILD | CHECK | BUILD BIN | ||||||
| Clomial 1.18.1 Habil Zare
| malbec1 | Linux (Ubuntu 16.04.6 LTS) / x86_64 | OK | OK | OK | |||||||
| tokay1 | Windows Server 2012 R2 Standard / x64 | OK | OK | OK | [ OK ] | |||||||
| merida1 | OS X 10.11.6 El Capitan / x86_64 | OK | OK | OK | OK |
| Package: Clomial |
| Version: 1.18.1 |
| Command: rm -rf Clomial.buildbin-libdir && mkdir Clomial.buildbin-libdir && C:\Users\biocbuild\bbs-3.8-bioc\R\bin\R.exe CMD INSTALL --merge-multiarch --build --library=Clomial.buildbin-libdir Clomial_1.18.1.tar.gz |
| StartedAt: 2019-04-13 07:04:10 -0400 (Sat, 13 Apr 2019) |
| EndedAt: 2019-04-13 07:04:23 -0400 (Sat, 13 Apr 2019) |
| EllapsedTime: 12.6 seconds |
| RetCode: 0 |
| Status: OK |
| PackageFile: Clomial_1.18.1.zip |
| PackageFileSize: 1.446 MiB |
##############################################################################
##############################################################################
###
### Running command:
###
### rm -rf Clomial.buildbin-libdir && mkdir Clomial.buildbin-libdir && C:\Users\biocbuild\bbs-3.8-bioc\R\bin\R.exe CMD INSTALL --merge-multiarch --build --library=Clomial.buildbin-libdir Clomial_1.18.1.tar.gz
###
##############################################################################
##############################################################################
install for i386
* installing *source* package 'Clomial' ...
** R
** data
** inst
** byte-compile and prepare package for lazy loading
** help
*** installing help indices
converting help for package 'Clomial'
finding HTML links ... done
Clomial-package html
Clomial html
Clomial.generate.data html
Clomial.iterate html
Clomial.likelihood html
Clomial1000 html
breastCancer html
choose.best html
compute.bic html
compute.errors html
** building package indices
** installing vignettes
** testing if installed package can be loaded
In R CMD INSTALL
install for x64
* installing *source* package 'Clomial' ...
** testing if installed package can be loaded
* MD5 sums
packaged installation of 'Clomial' as Clomial_1.18.1.zip
* DONE (Clomial)
In R CMD INSTALL
In R CMD INSTALL