| Back to Multiple platform build/check report for BioC 3.8 |
|
This page was generated on 2019-04-16 12:05:43 -0400 (Tue, 16 Apr 2019).
| Package 251/1649 | Hostname | OS / Arch | INSTALL | BUILD | CHECK | BUILD BIN | ||||||
| ChIPSeqSpike 1.2.1 Nicolas Descostes
| malbec1 | Linux (Ubuntu 16.04.6 LTS) / x86_64 | OK | OK | OK | |||||||
| merida1 | OS X 10.11.6 El Capitan / x86_64 | OK | [ OK ] | OK | OK |
| Package: ChIPSeqSpike |
| Version: 1.2.1 |
| Command: /Library/Frameworks/R.framework/Versions/Current/Resources/bin/R CMD build --keep-empty-dirs --no-resave-data ChIPSeqSpike |
| StartedAt: 2019-04-15 21:37:11 -0400 (Mon, 15 Apr 2019) |
| EndedAt: 2019-04-15 21:38:52 -0400 (Mon, 15 Apr 2019) |
| EllapsedTime: 101.4 seconds |
| RetCode: 0 |
| Status: OK |
| PackageFile: ChIPSeqSpike_1.2.1.tar.gz |
| PackageFileSize: 3.994 MiB |
##############################################################################
##############################################################################
###
### Running command:
###
### /Library/Frameworks/R.framework/Versions/Current/Resources/bin/R CMD build --keep-empty-dirs --no-resave-data ChIPSeqSpike
###
##############################################################################
##############################################################################
* checking for file ‘ChIPSeqSpike/DESCRIPTION’ ... OK
* preparing ‘ChIPSeqSpike’:
* checking DESCRIPTION meta-information ... OK
* installing the package to build vignettes
* creating vignettes ... OK
Warning: ‘inst/doc’ file
‘ChIPSeqSpike.pdf’
ignored as vignettes have been rebuilt.
Run R CMD build with --no-build-vignettes to prevent rebuilding.
* checking for LF line-endings in source and make files and shell scripts
* checking for empty or unneeded directories
* looking to see if a ‘data/datalist’ file should be added
* building ‘ChIPSeqSpike_1.2.1.tar.gz’