| Back to Multiple platform build/check report for BioC 3.8 | 
 | 
This page was generated on 2019-04-16 11:57:33 -0400 (Tue, 16 Apr 2019).
| Package 247/1649 | Hostname | OS / Arch | INSTALL | BUILD | CHECK | BUILD BIN | ||||||
| ChIPQC 1.18.2 Tom Carroll 
 | malbec1 | Linux (Ubuntu 16.04.6 LTS) / x86_64 | OK | OK | OK |  | ||||||
| merida1 | OS X 10.11.6 El Capitan / x86_64 | OK | OK | OK | [ OK ] |  | 
| Package: ChIPQC | 
| Version: 1.18.2 | 
| Command: rm -rf ChIPQC.buildbin-libdir && mkdir ChIPQC.buildbin-libdir && /Users/biocbuild/BBS/utils/build-universal.sh ChIPQC_1.18.2.tar.gz /Library/Frameworks/R.framework/Versions/Current/Resources/bin/R ChIPQC.buildbin-libdir | 
| StartedAt: 2019-04-16 03:49:52 -0400 (Tue, 16 Apr 2019) | 
| EndedAt: 2019-04-16 03:50:39 -0400 (Tue, 16 Apr 2019) | 
| EllapsedTime: 46.9 seconds | 
| RetCode: 0 | 
| Status: OK | 
| PackageFile: ChIPQC_1.18.2.tgz | 
| PackageFileSize: 1.875 MiB | 
############################################################################## ############################################################################## ### ### Running command: ### ### rm -rf ChIPQC.buildbin-libdir && mkdir ChIPQC.buildbin-libdir && /Users/biocbuild/BBS/utils/build-universal.sh ChIPQC_1.18.2.tar.gz /Library/Frameworks/R.framework/Versions/Current/Resources/bin/R ChIPQC.buildbin-libdir ### ############################################################################## ############################################################################## >>>>>>> >>>>>>> INSTALLATION WITH 'R CMD INSTALL --preclean --no-multiarch --library=ChIPQC.buildbin-libdir ChIPQC_1.18.2.tar.gz' >>>>>>> * installing *source* package ‘ChIPQC’ ... ** R ** data ** inst ** byte-compile and prepare package for lazy loading ** help *** installing help indices ** building package indices ** installing vignettes ** testing if installed package can be loaded * DONE (ChIPQC)