| Back to Multiple platform build/check report for BioC 3.8 |
|
This page was generated on 2019-04-13 11:25:49 -0400 (Sat, 13 Apr 2019).
| Package 243/1649 | Hostname | OS / Arch | INSTALL | BUILD | CHECK | BUILD BIN | ||||||
| ChIPComp 1.12.0 Li Chen
| malbec1 | Linux (Ubuntu 16.04.6 LTS) / x86_64 | OK | OK | OK | |||||||
| tokay1 | Windows Server 2012 R2 Standard / x64 | [ OK ] | OK | OK | OK | |||||||
| merida1 | OS X 10.11.6 El Capitan / x86_64 | OK | OK | OK | OK |
| Package: ChIPComp |
| Version: 1.12.0 |
| Command: C:\cygwin\bin\curl.exe -O https://malbec1.bioconductor.org/BBS/3.8/bioc/src/contrib/ChIPComp_1.12.0.tar.gz && rm -rf ChIPComp.buildbin-libdir && mkdir ChIPComp.buildbin-libdir && C:\Users\biocbuild\bbs-3.8-bioc\R\bin\R.exe CMD INSTALL --merge-multiarch --build --library=ChIPComp.buildbin-libdir ChIPComp_1.12.0.tar.gz && C:\Users\biocbuild\bbs-3.8-bioc\R\bin\R.exe CMD INSTALL ChIPComp_1.12.0.zip && rm ChIPComp_1.12.0.tar.gz ChIPComp_1.12.0.zip |
| StartedAt: 2019-04-12 20:02:18 -0400 (Fri, 12 Apr 2019) |
| EndedAt: 2019-04-12 20:03:24 -0400 (Fri, 12 Apr 2019) |
| EllapsedTime: 66.2 seconds |
| RetCode: 0 |
| Status: OK |
##############################################################################
##############################################################################
###
### Running command:
###
### C:\cygwin\bin\curl.exe -O https://malbec1.bioconductor.org/BBS/3.8/bioc/src/contrib/ChIPComp_1.12.0.tar.gz && rm -rf ChIPComp.buildbin-libdir && mkdir ChIPComp.buildbin-libdir && C:\Users\biocbuild\bbs-3.8-bioc\R\bin\R.exe CMD INSTALL --merge-multiarch --build --library=ChIPComp.buildbin-libdir ChIPComp_1.12.0.tar.gz && C:\Users\biocbuild\bbs-3.8-bioc\R\bin\R.exe CMD INSTALL ChIPComp_1.12.0.zip && rm ChIPComp_1.12.0.tar.gz ChIPComp_1.12.0.zip
###
##############################################################################
##############################################################################
% Total % Received % Xferd Average Speed Time Time Time Current
Dload Upload Total Spent Left Speed
0 0 0 0 0 0 0 0 --:--:-- --:--:-- --:--:-- 0
100 433k 100 433k 0 0 2552k 0 --:--:-- --:--:-- --:--:-- 2613k
install for i386
* installing *source* package 'ChIPComp' ...
** libs
C:/Rtools/mingw_32/bin/gcc -I"C:/Users/BIOCBU˜1/BBS-3˜1.8-B/R/include" -DNDEBUG -I"C:/extsoft/include" -O3 -Wall -std=gnu99 -mtune=generic -c mva.c -o mva.o
C:/Rtools/mingw_32/bin/gcc -shared -s -static-libgcc -o ChIPComp.dll tmp.def mva.o -LC:/Users/BIOCBU˜1/BBS-3˜1.8-B/R/bin/i386 -lRlapack -LC:/Users/BIOCBU˜1/BBS-3˜1.8-B/R/bin/i386 -lRblas -lgfortran -lm -lquadmath -LC:/extsoft/lib/i386 -LC:/extsoft/lib -LC:/Users/BIOCBU˜1/BBS-3˜1.8-B/R/bin/i386 -lR
installing to C:/Users/biocbuild/bbs-3.8-bioc/meat/ChIPComp.buildbin-libdir/ChIPComp/libs/i386
** R
** data
** inst
** byte-compile and prepare package for lazy loading
** help
*** installing help indices
converting help for package 'ChIPComp'
finding HTML links ... done
ChIPComp-package html
ChIPComp html
makeConf html
makeCountSet html
plot html
print html
seqData html
** building package indices
** installing vignettes
** testing if installed package can be loaded
In R CMD INSTALL
install for x64
* installing *source* package 'ChIPComp' ...
** libs
C:/Rtools/mingw_64/bin/gcc -I"C:/Users/BIOCBU˜1/BBS-3˜1.8-B/R/include" -DNDEBUG -I"C:/extsoft/include" -O2 -Wall -std=gnu99 -mtune=generic -c mva.c -o mva.o
C:/Rtools/mingw_64/bin/gcc -shared -s -static-libgcc -o ChIPComp.dll tmp.def mva.o -LC:/Users/BIOCBU˜1/BBS-3˜1.8-B/R/bin/x64 -lRlapack -LC:/Users/BIOCBU˜1/BBS-3˜1.8-B/R/bin/x64 -lRblas -lgfortran -lm -lquadmath -LC:/extsoft/lib/x64 -LC:/extsoft/lib -LC:/Users/BIOCBU˜1/BBS-3˜1.8-B/R/bin/x64 -lR
installing to C:/Users/biocbuild/bbs-3.8-bioc/meat/ChIPComp.buildbin-libdir/ChIPComp/libs/x64
** testing if installed package can be loaded
* MD5 sums
packaged installation of 'ChIPComp' as ChIPComp_1.12.0.zip
* DONE (ChIPComp)
In R CMD INSTALL
In R CMD INSTALL
* installing to library 'C:/Users/biocbuild/bbs-3.8-bioc/R/library'
package 'ChIPComp' successfully unpacked and MD5 sums checked
In R CMD INSTALL