| Back to Multiple platform build/check report for BioC 3.8 | 
 | 
This page was generated on 2019-04-16 11:53:27 -0400 (Tue, 16 Apr 2019).
| Package 238/1649 | Hostname | OS / Arch | INSTALL | BUILD | CHECK | BUILD BIN | ||||||
| ChIC 1.2.0 Carmen Maria Livi 
 | malbec1 | Linux (Ubuntu 16.04.6 LTS) / x86_64 | OK | [ OK ] | OK |  | ||||||
| merida1 | OS X 10.11.6 El Capitan / x86_64 | OK | OK | OK | OK |  | 
| Package: ChIC | 
| Version: 1.2.0 | 
| Command: /home/biocbuild/bbs-3.8-bioc/R/bin/R CMD build --keep-empty-dirs --no-resave-data ChIC | 
| StartedAt: 2019-04-15 21:42:48 -0400 (Mon, 15 Apr 2019) | 
| EndedAt: 2019-04-15 21:46:52 -0400 (Mon, 15 Apr 2019) | 
| EllapsedTime: 244.1 seconds | 
| RetCode: 0 | 
| Status: OK | 
| PackageFile: ChIC_1.2.0.tar.gz | 
| PackageFileSize: 1.033 MiB | 
############################################################################## ############################################################################## ### ### Running command: ### ### /home/biocbuild/bbs-3.8-bioc/R/bin/R CMD build --keep-empty-dirs --no-resave-data ChIC ### ############################################################################## ############################################################################## * checking for file ‘ChIC/DESCRIPTION’ ... OK * preparing ‘ChIC’: * checking DESCRIPTION meta-information ... OK * installing the package to build vignettes * creating vignettes ... OK * checking for LF line-endings in source and make files and shell scripts * checking for empty or unneeded directories * building ‘ChIC_1.2.0.tar.gz’