| Back to Multiple platform build/check report for BioC 3.8 |
|
This page was generated on 2019-04-13 11:23:23 -0400 (Sat, 13 Apr 2019).
| Package 233/1649 | Hostname | OS / Arch | INSTALL | BUILD | CHECK | BUILD BIN | ||||||
| ChAMP 2.12.4 Yuan Tian
| malbec1 | Linux (Ubuntu 16.04.6 LTS) / x86_64 | OK | OK | WARNINGS | |||||||
| tokay1 | Windows Server 2012 R2 Standard / x64 | OK | OK | WARNINGS | [ OK ] | |||||||
| merida1 | OS X 10.11.6 El Capitan / x86_64 | OK | OK | WARNINGS | OK |
| Package: ChAMP |
| Version: 2.12.4 |
| Command: rm -rf ChAMP.buildbin-libdir && mkdir ChAMP.buildbin-libdir && C:\Users\biocbuild\bbs-3.8-bioc\R\bin\R.exe CMD INSTALL --merge-multiarch --build --library=ChAMP.buildbin-libdir ChAMP_2.12.4.tar.gz |
| StartedAt: 2019-04-13 07:02:04 -0400 (Sat, 13 Apr 2019) |
| EndedAt: 2019-04-13 07:03:23 -0400 (Sat, 13 Apr 2019) |
| EllapsedTime: 78.6 seconds |
| RetCode: 0 |
| Status: OK |
| PackageFile: ChAMP_2.12.4.zip |
| PackageFileSize: 4.195 MiB |
##############################################################################
##############################################################################
###
### Running command:
###
### rm -rf ChAMP.buildbin-libdir && mkdir ChAMP.buildbin-libdir && C:\Users\biocbuild\bbs-3.8-bioc\R\bin\R.exe CMD INSTALL --merge-multiarch --build --library=ChAMP.buildbin-libdir ChAMP_2.12.4.tar.gz
###
##############################################################################
##############################################################################
install for i386
* installing *source* package 'ChAMP' ...
** R
** inst
** byte-compile and prepare package for lazy loading
Warning: replacing previous import 'igraph::intersection' by 'graph::intersection' when loading 'FEM'
Warning: replacing previous import 'igraph::union' by 'graph::union' when loading 'FEM'
Warning: replacing previous import 'igraph::degree' by 'graph::degree' when loading 'FEM'
Warning: replacing previous import 'igraph::edges' by 'graph::edges' when loading 'FEM'
Warning: replacing previous import 'Matrix::colMeans' by 'BiocGenerics::colMeans' when loading 'FEM'
Warning: replacing previous import 'Matrix::rowMeans' by 'BiocGenerics::rowMeans' when loading 'FEM'
Warning: replacing previous import 'limma::plotMA' by 'BiocGenerics::plotMA' when loading 'FEM'
Warning: replacing previous import 'Matrix::colSums' by 'BiocGenerics::colSums' when loading 'FEM'
Warning: replacing previous import 'Matrix::rowSums' by 'BiocGenerics::rowSums' when loading 'FEM'
Warning: replacing previous import 'Matrix::which' by 'BiocGenerics::which' when loading 'FEM'
Warning: replacing previous import 'igraph::path' by 'BiocGenerics::path' when loading 'FEM'
Warning: replacing previous import 'igraph::normalize' by 'BiocGenerics::normalize' when loading 'FEM'
Warning: replacing previous import 'plyr::mutate' by 'plotly::mutate' when loading 'ChAMP'
Warning: replacing previous import 'plyr::arrange' by 'plotly::arrange' when loading 'ChAMP'
Warning: replacing previous import 'plyr::summarise' by 'plotly::summarise' when loading 'ChAMP'
Warning: replacing previous import 'plyr::rename' by 'plotly::rename' when loading 'ChAMP'
Warning: replacing previous import 'plotly::subplot' by 'Hmisc::subplot' when loading 'ChAMP'
Warning: replacing previous import 'plyr::summarize' by 'Hmisc::summarize' when loading 'ChAMP'
Warning: replacing previous import 'plyr::is.discrete' by 'Hmisc::is.discrete' when loading 'ChAMP'
Warning: replacing previous import 'GenomicRanges::sort' by 'globaltest::sort' when loading 'ChAMP'
Warning: replacing previous import 'globaltest::model.matrix' by 'stats::model.matrix' when loading 'ChAMP'
Warning: replacing previous import 'globaltest::p.adjust' by 'stats::p.adjust' when loading 'ChAMP'
** help
*** installing help indices
converting help for package 'ChAMP'
finding HTML links ... done
Block.GUI html
ChAMP-package html
CpG.GUI html
DMP.GUI html
DMR.GUI html
QC.GUI html
champ.Block html
champ.CNA html
champ.DMP html
champ.DMR html
champ.EpiMod html
champ.GSEA html
champ.QC html
champ.SVD html
champ.ebGSEA html
champ.filter html
champ.import html
champ.impute html
champ.load html
champ.norm html
champ.process html
champ.refbase html
champ.runCombat html
** building package indices
** installing vignettes
** testing if installed package can be loaded
Warning: replacing previous import 'igraph::intersection' by 'graph::intersection' when loading 'FEM'
Warning: replacing previous import 'igraph::union' by 'graph::union' when loading 'FEM'
Warning: replacing previous import 'igraph::degree' by 'graph::degree' when loading 'FEM'
Warning: replacing previous import 'igraph::edges' by 'graph::edges' when loading 'FEM'
Warning: replacing previous import 'Matrix::colMeans' by 'BiocGenerics::colMeans' when loading 'FEM'
Warning: replacing previous import 'Matrix::rowMeans' by 'BiocGenerics::rowMeans' when loading 'FEM'
Warning: replacing previous import 'limma::plotMA' by 'BiocGenerics::plotMA' when loading 'FEM'
Warning: replacing previous import 'Matrix::colSums' by 'BiocGenerics::colSums' when loading 'FEM'
Warning: replacing previous import 'Matrix::rowSums' by 'BiocGenerics::rowSums' when loading 'FEM'
Warning: replacing previous import 'Matrix::which' by 'BiocGenerics::which' when loading 'FEM'
Warning: replacing previous import 'igraph::path' by 'BiocGenerics::path' when loading 'FEM'
Warning: replacing previous import 'igraph::normalize' by 'BiocGenerics::normalize' when loading 'FEM'
Warning: replacing previous import 'plyr::mutate' by 'plotly::mutate' when loading 'ChAMP'
Warning: replacing previous import 'plyr::arrange' by 'plotly::arrange' when loading 'ChAMP'
Warning: replacing previous import 'plyr::summarise' by 'plotly::summarise' when loading 'ChAMP'
Warning: replacing previous import 'plyr::rename' by 'plotly::rename' when loading 'ChAMP'
Warning: replacing previous import 'plotly::subplot' by 'Hmisc::subplot' when loading 'ChAMP'
Warning: replacing previous import 'plyr::summarize' by 'Hmisc::summarize' when loading 'ChAMP'
Warning: replacing previous import 'plyr::is.discrete' by 'Hmisc::is.discrete' when loading 'ChAMP'
Warning: replacing previous import 'GenomicRanges::sort' by 'globaltest::sort' when loading 'ChAMP'
Warning: replacing previous import 'globaltest::model.matrix' by 'stats::model.matrix' when loading 'ChAMP'
Warning: replacing previous import 'globaltest::p.adjust' by 'stats::p.adjust' when loading 'ChAMP'
In R CMD INSTALL
install for x64
* installing *source* package 'ChAMP' ...
** testing if installed package can be loaded
Warning: replacing previous import 'igraph::edges' by 'graph::edges' when loading 'FEM'
Warning: replacing previous import 'igraph::intersection' by 'graph::intersection' when loading 'FEM'
Warning: replacing previous import 'igraph::degree' by 'graph::degree' when loading 'FEM'
Warning: replacing previous import 'igraph::union' by 'graph::union' when loading 'FEM'
Warning: replacing previous import 'limma::plotMA' by 'BiocGenerics::plotMA' when loading 'FEM'
Warning: replacing previous import 'igraph::path' by 'BiocGenerics::path' when loading 'FEM'
Warning: replacing previous import 'Matrix::colSums' by 'BiocGenerics::colSums' when loading 'FEM'
Warning: replacing previous import 'Matrix::colMeans' by 'BiocGenerics::colMeans' when loading 'FEM'
Warning: replacing previous import 'Matrix::rowMeans' by 'BiocGenerics::rowMeans' when loading 'FEM'
Warning: replacing previous import 'Matrix::rowSums' by 'BiocGenerics::rowSums' when loading 'FEM'
Warning: replacing previous import 'Matrix::which' by 'BiocGenerics::which' when loading 'FEM'
Warning: replacing previous import 'igraph::normalize' by 'BiocGenerics::normalize' when loading 'FEM'
Warning: replacing previous import 'plyr::summarise' by 'plotly::summarise' when loading 'ChAMP'
Warning: replacing previous import 'plyr::rename' by 'plotly::rename' when loading 'ChAMP'
Warning: replacing previous import 'plyr::arrange' by 'plotly::arrange' when loading 'ChAMP'
Warning: replacing previous import 'plyr::mutate' by 'plotly::mutate' when loading 'ChAMP'
Warning: replacing previous import 'plyr::is.discrete' by 'Hmisc::is.discrete' when loading 'ChAMP'
Warning: replacing previous import 'plyr::summarize' by 'Hmisc::summarize' when loading 'ChAMP'
Warning: replacing previous import 'plotly::subplot' by 'Hmisc::subplot' when loading 'ChAMP'
Warning: replacing previous import 'GenomicRanges::sort' by 'globaltest::sort' when loading 'ChAMP'
Warning: replacing previous import 'globaltest::model.matrix' by 'stats::model.matrix' when loading 'ChAMP'
Warning: replacing previous import 'globaltest::p.adjust' by 'stats::p.adjust' when loading 'ChAMP'
* MD5 sums
packaged installation of 'ChAMP' as ChAMP_2.12.4.zip
* DONE (ChAMP)
In R CMD INSTALL
In R CMD INSTALL