| Back to Multiple platform build/check report for BioC 3.8 |
|
This page was generated on 2019-04-13 11:29:26 -0400 (Sat, 13 Apr 2019).
| Package 222/1649 | Hostname | OS / Arch | INSTALL | BUILD | CHECK | BUILD BIN | ||||||
| CellTrails 1.0.1 Daniel Ellwanger
| malbec1 | Linux (Ubuntu 16.04.6 LTS) / x86_64 | OK | OK | OK | |||||||
| tokay1 | Windows Server 2012 R2 Standard / x64 | [ OK ] | OK | OK | OK | |||||||
| merida1 | OS X 10.11.6 El Capitan / x86_64 | OK | OK | OK | OK |
| Package: CellTrails |
| Version: 1.0.1 |
| Command: C:\cygwin\bin\curl.exe -O https://malbec1.bioconductor.org/BBS/3.8/bioc/src/contrib/CellTrails_1.0.1.tar.gz && rm -rf CellTrails.buildbin-libdir && mkdir CellTrails.buildbin-libdir && C:\Users\biocbuild\bbs-3.8-bioc\R\bin\R.exe CMD INSTALL --merge-multiarch --build --library=CellTrails.buildbin-libdir CellTrails_1.0.1.tar.gz && C:\Users\biocbuild\bbs-3.8-bioc\R\bin\R.exe CMD INSTALL CellTrails_1.0.1.zip && rm CellTrails_1.0.1.tar.gz CellTrails_1.0.1.zip |
| StartedAt: 2019-04-12 20:31:42 -0400 (Fri, 12 Apr 2019) |
| EndedAt: 2019-04-12 20:33:15 -0400 (Fri, 12 Apr 2019) |
| EllapsedTime: 93.6 seconds |
| RetCode: 0 |
| Status: OK |
##############################################################################
##############################################################################
###
### Running command:
###
### C:\cygwin\bin\curl.exe -O https://malbec1.bioconductor.org/BBS/3.8/bioc/src/contrib/CellTrails_1.0.1.tar.gz && rm -rf CellTrails.buildbin-libdir && mkdir CellTrails.buildbin-libdir && C:\Users\biocbuild\bbs-3.8-bioc\R\bin\R.exe CMD INSTALL --merge-multiarch --build --library=CellTrails.buildbin-libdir CellTrails_1.0.1.tar.gz && C:\Users\biocbuild\bbs-3.8-bioc\R\bin\R.exe CMD INSTALL CellTrails_1.0.1.zip && rm CellTrails_1.0.1.tar.gz CellTrails_1.0.1.zip
###
##############################################################################
##############################################################################
% Total % Received % Xferd Average Speed Time Time Time Current
Dload Upload Total Spent Left Speed
0 0 0 0 0 0 0 0 --:--:-- --:--:-- --:--:-- 0
0 2166k 0 16384 0 0 16577 0 0:02:13 --:--:-- 0:02:13 16633
100 2166k 100 2166k 0 0 2124k 0 0:00:01 0:00:01 --:--:-- 2132k
install for i386
* installing *source* package 'CellTrails' ...
** R
** data
** inst
** byte-compile and prepare package for lazy loading
** help
*** installing help indices
converting help for package 'CellTrails'
finding HTML links ... done
addTrail html
connectStates html
contrastTrailExpr html
embedSamples html
enrichment.test html
exSCE html
featureNames-SingleCellExperiment-method
html
filterTrajFeaturesByCOV html
filterTrajFeaturesByDL html
filterTrajFeaturesByFF html
findSpectrum html
findStates html
fitDynamic html
fitTrajectory html
landmarks html
latentSpace-set html
latentSpace html
manifold2D-set html
manifold2D html
pca html
phenoNames html
plotDynamic html
plotManifold html
plotMap html
plotStateExpression html
plotStateSize html
plotStateTrajectory html
plotTrail html
plotTrajectoryFit html
read.ygraphml html
removeTrail html
sampleNames-SingleCellExperiment-method
html
selectTrajectory html
showTrajInfo html
simulate_exprs html
stateTrajLayout-set html
states-set html
states html
trailNames-set html
trailNames html
trails html
trajComponents html
trajFeatureNames-set html
trajFeatureNames html
trajLayout-set html
trajLayout html
trajResiduals html
trajSampleNames html
userLandmarks-set html
userLandmarks html
write.ygraphml html
** building package indices
** installing vignettes
** testing if installed package can be loaded
In R CMD INSTALL
install for x64
* installing *source* package 'CellTrails' ...
** testing if installed package can be loaded
* MD5 sums
packaged installation of 'CellTrails' as CellTrails_1.0.1.zip
* DONE (CellTrails)
In R CMD INSTALL
In R CMD INSTALL
* installing to library 'C:/Users/biocbuild/bbs-3.8-bioc/R/library'
package 'CellTrails' successfully unpacked and MD5 sums checked
In R CMD INSTALL