| Back to Multiple platform build/check report for BioC 3.8 |
|
This page was generated on 2019-04-13 11:26:57 -0400 (Sat, 13 Apr 2019).
| Package 358/1649 | Hostname | OS / Arch | INSTALL | BUILD | CHECK | BUILD BIN | ||||||
| CVE 1.8.0 Andreas Mock
| malbec1 | Linux (Ubuntu 16.04.6 LTS) / x86_64 | OK | OK | WARNINGS | |||||||
| tokay1 | Windows Server 2012 R2 Standard / x64 | OK | [ OK ] | WARNINGS | OK | |||||||
| merida1 | OS X 10.11.6 El Capitan / x86_64 | OK | OK | WARNINGS | OK |
| Package: CVE |
| Version: 1.8.0 |
| Command: chmod a+r CVE -R && C:\Users\biocbuild\bbs-3.8-bioc\R\bin\R.exe CMD build --keep-empty-dirs --no-resave-data CVE |
| StartedAt: 2019-04-12 23:02:59 -0400 (Fri, 12 Apr 2019) |
| EndedAt: 2019-04-12 23:04:05 -0400 (Fri, 12 Apr 2019) |
| EllapsedTime: 66.1 seconds |
| RetCode: 0 |
| Status: OK |
| PackageFile: CVE_1.8.0.tar.gz |
| PackageFileSize: 4.613 MiB |
############################################################################## ############################################################################## ### ### Running command: ### ### chmod a+r CVE -R && C:\Users\biocbuild\bbs-3.8-bioc\R\bin\R.exe CMD build --keep-empty-dirs --no-resave-data CVE ### ############################################################################## ############################################################################## * checking for file 'CVE/DESCRIPTION' ... OK * preparing 'CVE': * checking DESCRIPTION meta-information ... OK * installing the package to build vignettes * creating vignettes ... OK * checking for LF line-endings in source and make files and shell scripts * checking for empty or unneeded directories * looking to see if a 'data/datalist' file should be added * building 'CVE_1.8.0.tar.gz'