| Back to Multiple platform build/check report for BioC 3.8 |
|
This page was generated on 2019-04-13 11:26:34 -0400 (Sat, 13 Apr 2019).
| Package 316/1649 | Hostname | OS / Arch | INSTALL | BUILD | CHECK | BUILD BIN | ||||||
| CONFESS 1.10.1 Diana LOW
| malbec1 | Linux (Ubuntu 16.04.6 LTS) / x86_64 | OK | OK | WARNINGS | |||||||
| tokay1 | Windows Server 2012 R2 Standard / x64 | OK | [ OK ] | WARNINGS | OK | |||||||
| merida1 | OS X 10.11.6 El Capitan / x86_64 | OK | OK | WARNINGS | OK |
| Package: CONFESS |
| Version: 1.10.1 |
| Command: chmod a+r CONFESS -R && C:\Users\biocbuild\bbs-3.8-bioc\R\bin\R.exe CMD build --keep-empty-dirs --no-resave-data CONFESS |
| StartedAt: 2019-04-12 22:51:26 -0400 (Fri, 12 Apr 2019) |
| EndedAt: 2019-04-12 22:53:58 -0400 (Fri, 12 Apr 2019) |
| EllapsedTime: 152.8 seconds |
| RetCode: 0 |
| Status: OK |
| PackageFile: CONFESS_1.10.1.tar.gz |
| PackageFileSize: 3.571 MiB |
##############################################################################
##############################################################################
###
### Running command:
###
### chmod a+r CONFESS -R && C:\Users\biocbuild\bbs-3.8-bioc\R\bin\R.exe CMD build --keep-empty-dirs --no-resave-data CONFESS
###
##############################################################################
##############################################################################
* checking for file 'CONFESS/DESCRIPTION' ... OK
* preparing 'CONFESS':
* checking DESCRIPTION meta-information ... OK
* installing the package to build vignettes
* creating vignettes ... OK
Warning: 'inst/doc' file
'vignette_tex.R'
ignored as vignettes have been rebuilt.
Run R CMD build with --no-build-vignettes to prevent rebuilding.
* checking for LF line-endings in source and make files and shell scripts
* checking for empty or unneeded directories
* looking to see if a 'data/datalist' file should be added
* building 'CONFESS_1.10.1.tar.gz'