| Back to Multiple platform build/check report for BioC 3.8 |
|
This page was generated on 2019-04-16 11:50:23 -0400 (Tue, 16 Apr 2019).
| Package 310/1649 | Hostname | OS / Arch | INSTALL | BUILD | CHECK | BUILD BIN | ||||||
| COMPASS 1.20.1 Greg Finak
| malbec1 | Linux (Ubuntu 16.04.6 LTS) / x86_64 | OK | OK | [ OK ] | |||||||
| merida1 | OS X 10.11.6 El Capitan / x86_64 | OK | OK | OK | OK |
| Package: COMPASS |
| Version: 1.20.1 |
| Command: /home/biocbuild/bbs-3.8-bioc/R/bin/R CMD check --install=check:COMPASS.install-out.txt --library=/home/biocbuild/bbs-3.8-bioc/R/library --no-vignettes --timings COMPASS_1.20.1.tar.gz |
| StartedAt: 2019-04-15 23:05:39 -0400 (Mon, 15 Apr 2019) |
| EndedAt: 2019-04-15 23:08:05 -0400 (Mon, 15 Apr 2019) |
| EllapsedTime: 146.4 seconds |
| RetCode: 0 |
| Status: OK |
| CheckDir: COMPASS.Rcheck |
| Warnings: 0 |
##############################################################################
##############################################################################
###
### Running command:
###
### /home/biocbuild/bbs-3.8-bioc/R/bin/R CMD check --install=check:COMPASS.install-out.txt --library=/home/biocbuild/bbs-3.8-bioc/R/library --no-vignettes --timings COMPASS_1.20.1.tar.gz
###
##############################################################################
##############################################################################
* using log directory ‘/home/biocbuild/bbs-3.8-bioc/meat/COMPASS.Rcheck’
* using R version 3.5.3 (2019-03-11)
* using platform: x86_64-pc-linux-gnu (64-bit)
* using session charset: UTF-8
* using option ‘--no-vignettes’
* checking for file ‘COMPASS/DESCRIPTION’ ... OK
* checking extension type ... Package
* this is package ‘COMPASS’ version ‘1.20.1’
* checking package namespace information ... OK
* checking package dependencies ... OK
* checking if this is a source package ... OK
* checking if there is a namespace ... OK
* checking for hidden files and directories ... NOTE
Found the following hidden files and directories:
.github
These were most likely included in error. See section ‘Package
structure’ in the ‘Writing R Extensions’ manual.
* checking for portable file names ... OK
* checking for sufficient/correct file permissions ... OK
* checking whether package ‘COMPASS’ can be installed ... OK
* checking installed package size ... NOTE
installed size is 5.7Mb
sub-directories of 1Mb or more:
libs 3.6Mb
shiny 1.4Mb
* checking package directory ... OK
* checking ‘build’ directory ... OK
* checking DESCRIPTION meta-information ... OK
* checking top-level files ... OK
* checking for left-over files ... OK
* checking index information ... OK
* checking package subdirectories ... OK
* checking R files for non-ASCII characters ... OK
* checking R files for syntax errors ... OK
* checking whether the package can be loaded ... OK
* checking whether the package can be loaded with stated dependencies ... OK
* checking whether the package can be unloaded cleanly ... OK
* checking whether the namespace can be loaded with stated dependencies ... OK
* checking whether the namespace can be unloaded cleanly ... OK
* checking dependencies in R code ... NOTE
Namespaces in Imports field not imported from:
‘BiocStyle’ ‘rmarkdown’
All declared Imports should be used.
':::' call which should be '::': ‘flowWorkspace:::.getNodeInd’
See the note in ?`:::` about the use of this operator.
* checking S3 generic/method consistency ... OK
* checking replacement functions ... OK
* checking foreign function calls ... OK
* checking R code for possible problems ... NOTE
.CellCounts: no visible binding for global variable
‘_COMPASS_CellCounts’
COMPASSfitToCountsTable: no visible binding for global variable
‘population’
COMPASSfitToCountsTable: no visible binding for global variable ‘Count’
COMPASSfitToCountsTable: no visible binding for global variable ‘id’
CellCounts_character: no visible binding for global variable
‘_COMPASS_CellCounts_character’
Undefined global functions or variables:
Count _COMPASS_CellCounts _COMPASS_CellCounts_character id population
* checking Rd files ... OK
* checking Rd metadata ... OK
* checking Rd cross-references ... OK
* checking for missing documentation entries ... OK
* checking for code/documentation mismatches ... OK
* checking Rd \usage sections ... OK
* checking Rd contents ... OK
* checking for unstated dependencies in examples ... OK
* checking contents of ‘data’ directory ... OK
* checking data for non-ASCII characters ... OK
* checking data for ASCII and uncompressed saves ... OK
* checking line endings in shell scripts ... OK
* checking line endings in C/C++/Fortran sources/headers ... OK
* checking line endings in Makefiles ... OK
* checking compilation flags in Makevars ... OK
* checking for GNU extensions in Makefiles ... OK
* checking for portable use of $(BLAS_LIBS) and $(LAPACK_LIBS) ... OK
* checking compiled code ... NOTE
Note: information on .o files is not available
* checking files in ‘vignettes’ ... OK
* checking examples ... OK
* checking for unstated dependencies in ‘tests’ ... OK
* checking tests ...
Running ‘test-all.R’
OK
* checking for unstated dependencies in vignettes ... OK
* checking package vignettes in ‘inst/doc’ ... OK
* checking running R code from vignettes ... SKIPPED
* checking re-building of vignette outputs ... SKIPPED
* checking PDF version of manual ... OK
* DONE
Status: 5 NOTEs
See
‘/home/biocbuild/bbs-3.8-bioc/meat/COMPASS.Rcheck/00check.log’
for details.
COMPASS.Rcheck/00install.out
############################################################################## ############################################################################## ### ### Running command: ### ### /home/biocbuild/bbs-3.8-bioc/R/bin/R CMD INSTALL COMPASS ### ############################################################################## ############################################################################## * installing to library ‘/home/biocbuild/bbs-3.8-bioc/R/library’ * installing *source* package ‘COMPASS’ ... ** libs gcc -I"/home/biocbuild/bbs-3.8-bioc/R/include" -DNDEBUG -I"/home/biocbuild/bbs-3.8-bioc/R/library/Rcpp/include" -I/usr/local/include -fpic -g -O2 -Wall -c COMPASS_init.c -o COMPASS_init.o g++ -I"/home/biocbuild/bbs-3.8-bioc/R/include" -DNDEBUG -I"/home/biocbuild/bbs-3.8-bioc/R/library/Rcpp/include" -I/usr/local/include -fpic -g -O2 -Wall -c CellCounts.cpp -o CellCounts.o g++ -I"/home/biocbuild/bbs-3.8-bioc/R/include" -DNDEBUG -I"/home/biocbuild/bbs-3.8-bioc/R/library/Rcpp/include" -I/usr/local/include -fpic -g -O2 -Wall -c CellCounts_character.cpp -o CellCounts_character.o g++ -I"/home/biocbuild/bbs-3.8-bioc/R/include" -DNDEBUG -I"/home/biocbuild/bbs-3.8-bioc/R/library/Rcpp/include" -I/usr/local/include -fpic -g -O2 -Wall -c RcppExports.cpp -o RcppExports.o gcc -I"/home/biocbuild/bbs-3.8-bioc/R/include" -DNDEBUG -I"/home/biocbuild/bbs-3.8-bioc/R/library/Rcpp/include" -I/usr/local/include -fpic -g -O2 -Wall -c digamma.c -o digamma.o gcc -I"/home/biocbuild/bbs-3.8-bioc/R/include" -DNDEBUG -I"/home/biocbuild/bbs-3.8-bioc/R/library/Rcpp/include" -I/usr/local/include -fpic -g -O2 -Wall -c mat2vec.c -o mat2vec.o gcc -I"/home/biocbuild/bbs-3.8-bioc/R/include" -DNDEBUG -I"/home/biocbuild/bbs-3.8-bioc/R/library/Rcpp/include" -I/usr/local/include -fpic -g -O2 -Wall -c melt_dataframe.c -o melt_dataframe.o gcc -I"/home/biocbuild/bbs-3.8-bioc/R/include" -DNDEBUG -I"/home/biocbuild/bbs-3.8-bioc/R/library/Rcpp/include" -I/usr/local/include -fpic -g -O2 -Wall -c melt_matrix.c -o melt_matrix.o g++ -I"/home/biocbuild/bbs-3.8-bioc/R/include" -DNDEBUG -I"/home/biocbuild/bbs-3.8-bioc/R/library/Rcpp/include" -I/usr/local/include -fpic -g -O2 -Wall -c samplePuPs.cpp -o samplePuPs.o gcc -I"/home/biocbuild/bbs-3.8-bioc/R/include" -DNDEBUG -I"/home/biocbuild/bbs-3.8-bioc/R/library/Rcpp/include" -I/usr/local/include -fpic -g -O2 -Wall -c transpose_list.c -o transpose_list.o g++ -I"/home/biocbuild/bbs-3.8-bioc/R/include" -DNDEBUG -I"/home/biocbuild/bbs-3.8-bioc/R/library/Rcpp/include" -I/usr/local/include -fpic -g -O2 -Wall -c updatealphas_Exp.cpp -o updatealphas_Exp.o g++ -I"/home/biocbuild/bbs-3.8-bioc/R/include" -DNDEBUG -I"/home/biocbuild/bbs-3.8-bioc/R/library/Rcpp/include" -I/usr/local/include -fpic -g -O2 -Wall -c updatealphau.cpp -o updatealphau.o g++ -I"/home/biocbuild/bbs-3.8-bioc/R/include" -DNDEBUG -I"/home/biocbuild/bbs-3.8-bioc/R/library/Rcpp/include" -I/usr/local/include -fpic -g -O2 -Wall -c updatealphau_noPu_Exp.cpp -o updatealphau_noPu_Exp.o g++ -I"/home/biocbuild/bbs-3.8-bioc/R/include" -DNDEBUG -I"/home/biocbuild/bbs-3.8-bioc/R/library/Rcpp/include" -I/usr/local/include -fpic -g -O2 -Wall -c updatebeta_RW.cpp -o updatebeta_RW.o g++ -I"/home/biocbuild/bbs-3.8-bioc/R/include" -DNDEBUG -I"/home/biocbuild/bbs-3.8-bioc/R/library/Rcpp/include" -I/usr/local/include -fpic -g -O2 -Wall -c updategammak_noPu.cpp -o updategammak_noPu.o gcc -I"/home/biocbuild/bbs-3.8-bioc/R/include" -DNDEBUG -I"/home/biocbuild/bbs-3.8-bioc/R/library/Rcpp/include" -I/usr/local/include -fpic -g -O2 -Wall -c utils.c -o utils.o g++ -shared -L/home/biocbuild/bbs-3.8-bioc/R/lib -L/usr/local/lib -o COMPASS.so COMPASS_init.o CellCounts.o CellCounts_character.o RcppExports.o digamma.o mat2vec.o melt_dataframe.o melt_matrix.o samplePuPs.o transpose_list.o updatealphas_Exp.o updatealphau.o updatealphau_noPu_Exp.o updatebeta_RW.o updategammak_noPu.o utils.o -L/home/biocbuild/bbs-3.8-bioc/R/lib -lRlapack -L/home/biocbuild/bbs-3.8-bioc/R/lib -lRblas -lgfortran -lm -lquadmath -L/home/biocbuild/bbs-3.8-bioc/R/lib -lR installing to /home/biocbuild/bbs-3.8-bioc/R/library/COMPASS/libs ** R ** data *** moving datasets to lazyload DB ** inst ** byte-compile and prepare package for lazy loading ** help *** installing help indices ** building package indices ** installing vignettes ** testing if installed package can be loaded * DONE (COMPASS)
COMPASS.Rcheck/tests/test-all.Rout
R version 3.5.3 (2019-03-11) -- "Great Truth"
Copyright (C) 2019 The R Foundation for Statistical Computing
Platform: x86_64-pc-linux-gnu (64-bit)
R is free software and comes with ABSOLUTELY NO WARRANTY.
You are welcome to redistribute it under certain conditions.
Type 'license()' or 'licence()' for distribution details.
R is a collaborative project with many contributors.
Type 'contributors()' for more information and
'citation()' on how to cite R or R packages in publications.
Type 'demo()' for some demos, 'help()' for on-line help, or
'help.start()' for an HTML browser interface to help.
Type 'q()' to quit R.
> library(testthat)
> library(COMPASS)
> if (file.exists("testthat")) {
+ test_dir("testthat")
+ }
✔ | OK F W S | Context
⠏ | 0 | COMPASS Interface
⠋ | 1 | COMPASS Interface
✔ | 1 | COMPASS Interface [1.0 s]
⠏ | 0 | test plotCOMPASSResultStack
⠋ | 1 | test plotCOMPASSResultStack
⠙ | 2 | test plotCOMPASSResultStack
⠹ | 3 | test plotCOMPASSResultStack
⠸ | 4 | test plotCOMPASSResultStack
⠼ | 5 | test plotCOMPASSResultStack
⠴ | 6 | test plotCOMPASSResultStack
✔ | 6 | test plotCOMPASSResultStack [82.2 s]
⠏ | 0 | CellCounts
⠋ | 1 | CellCounts
⠙ | 2 | CellCounts
⠹ | 3 | CellCounts
⠸ | 4 | CellCounts
⠼ | 5 | CellCounts
⠴ | 6 | CellCounts
⠦ | 7 | CellCounts
✔ | 7 | CellCounts
⠏ | 0 | FS, PFS
⠋ | 1 | FS, PFS
⠙ | 2 | FS, PFS
⠹ | 3 | FS, PFS
⠸ | 4 | FS, PFS
⠼ | 5 | FS, PFS
⠴ | 6 | FS, PFS
⠦ | 7 | FS, PFS
⠧ | 8 | FS, PFS
✔ | 8 | FS, PFS
⠏ | 0 | test COMPASSContainerFromGatingSet
⠋ | 1 | test COMPASSContainerFromGatingSet
⠙ | 2 | test COMPASSContainerFromGatingSet
⠹ | 3 | test COMPASSContainerFromGatingSet
⠸ | 4 | test COMPASSContainerFromGatingSet
⠼ | 5 | test COMPASSContainerFromGatingSet
⠴ | 6 | test COMPASSContainerFromGatingSet
⠦ | 7 | test COMPASSContainerFromGatingSet
✔ | 7 | test COMPASSContainerFromGatingSet [4.0 s]
══ Results ═════════════════════════════════════════════════════════════════════
Duration: 87.4 s
OK: 29
Failed: 0
Warnings: 0
Skipped: 0
>
> proc.time()
user system elapsed
106.128 1.096 88.933
COMPASS.Rcheck/COMPASS-Ex.timings
| name | user | system | elapsed | |
| COMPASS | 1.456 | 0.040 | 0.478 | |
| COMPASSContainer | 0.032 | 0.000 | 0.034 | |
| COMPASSContainerFromGatingSet | 0 | 0 | 0 | |
| CellCounts | 1.868 | 0.024 | 0.761 | |
| Combinations | 0.004 | 0.000 | 0.001 | |
| FunctionalityScore | 0.004 | 0.000 | 0.005 | |
| GetThresholdedIntensities | 3.832 | 0.052 | 3.633 | |
| PolyfunctionalityScore | 0.000 | 0.000 | 0.001 | |
| Posterior | 0.004 | 0.000 | 0.003 | |
| SimpleCOMPASS | 3.152 | 0.056 | 3.208 | |
| TotalCellCounts | 3.756 | 0.016 | 0.849 | |
| UniqueCombinations | 0.544 | 0.004 | 0.095 | |
| getCounts | 0.008 | 0.004 | 0.012 | |
| merge.COMPASSContainer | 0.008 | 0.000 | 0.007 | |
| pheatmap | 1.568 | 0.000 | 1.572 | |
| plot.COMPASSResult | 0.112 | 0.000 | 0.112 | |
| plotCOMPASSResultStack | 0.000 | 0.000 | 0.001 | |
| print.COMPASSContainer | 0.000 | 0.000 | 0.001 | |
| print.COMPASSResult | 0.000 | 0.000 | 0.001 | |
| scores | 0.680 | 0.004 | 0.160 | |
| select_compass_pops | 0.004 | 0.000 | 0.005 | |
| shinyCOMPASS | 0.000 | 0.004 | 0.001 | |
| shinyCOMPASSDeps | 1.492 | 0.060 | 1.562 | |
| subset.COMPASSContainer | 0.004 | 0.000 | 0.002 | |
| summary.COMPASSContainer | 0.004 | 0.000 | 0.004 | |
| summary.COMPASSResult | 0 | 0 | 0 | |
| translate_marker_names | 0.004 | 0.000 | 0.002 | |
| transpose_list | 0 | 0 | 0 | |