| Back to Multiple platform build/check report for BioC 3.8 | 
 | 
This page was generated on 2019-04-16 12:13:54 -0400 (Tue, 16 Apr 2019).
| Package 300/1649 | Hostname | OS / Arch | INSTALL | BUILD | CHECK | BUILD BIN | ||||||
| COCOA 1.0.2 John Lawson 
 | malbec1 | Linux (Ubuntu 16.04.6 LTS) / x86_64 | OK | OK | OK |  | ||||||
| merida1 | OS X 10.11.6 El Capitan / x86_64 | OK | OK | OK | [ OK ] |  | 
| Package: COCOA | 
| Version: 1.0.2 | 
| Command: rm -rf COCOA.buildbin-libdir && mkdir COCOA.buildbin-libdir && /Users/biocbuild/BBS/utils/build-universal.sh COCOA_1.0.2.tar.gz /Library/Frameworks/R.framework/Versions/Current/Resources/bin/R COCOA.buildbin-libdir | 
| StartedAt: 2019-04-16 03:52:20 -0400 (Tue, 16 Apr 2019) | 
| EndedAt: 2019-04-16 03:53:04 -0400 (Tue, 16 Apr 2019) | 
| EllapsedTime: 43.5 seconds | 
| RetCode: 0 | 
| Status: OK | 
| PackageFile: COCOA_1.0.2.tgz | 
| PackageFileSize: 2.641 MiB | 
############################################################################## ############################################################################## ### ### Running command: ### ### rm -rf COCOA.buildbin-libdir && mkdir COCOA.buildbin-libdir && /Users/biocbuild/BBS/utils/build-universal.sh COCOA_1.0.2.tar.gz /Library/Frameworks/R.framework/Versions/Current/Resources/bin/R COCOA.buildbin-libdir ### ############################################################################## ############################################################################## >>>>>>> >>>>>>> INSTALLATION WITH 'R CMD INSTALL --preclean --no-multiarch --library=COCOA.buildbin-libdir COCOA_1.0.2.tar.gz' >>>>>>> * installing *source* package ‘COCOA’ ... ** R ** data ** inst ** byte-compile and prepare package for lazy loading ** help *** installing help indices ** building package indices ** installing vignettes ** testing if installed package can be loaded * DONE (COCOA)