| Back to Multiple platform build/check report for BioC 3.8 | 
 | 
This page was generated on 2019-04-16 11:56:30 -0400 (Tue, 16 Apr 2019).
| Package 290/1649 | Hostname | OS / Arch | INSTALL | BUILD | CHECK | BUILD BIN | ||||||
| CNORfuzzy 1.24.0 T. Cokelaer 
 | malbec1 | Linux (Ubuntu 16.04.6 LTS) / x86_64 | OK | OK | OK |  | ||||||
| merida1 | OS X 10.11.6 El Capitan / x86_64 | [ OK ] | OK | OK | OK |  | 
| Package: CNORfuzzy | 
| Version: 1.24.0 | 
| Command: /Library/Frameworks/R.framework/Versions/Current/Resources/bin/R CMD INSTALL CNORfuzzy | 
| StartedAt: 2019-04-15 18:37:32 -0400 (Mon, 15 Apr 2019) | 
| EndedAt: 2019-04-15 18:37:43 -0400 (Mon, 15 Apr 2019) | 
| EllapsedTime: 10.6 seconds | 
| RetCode: 0 | 
| Status: OK | 
##############################################################################
##############################################################################
###
### Running command:
###
###   /Library/Frameworks/R.framework/Versions/Current/Resources/bin/R CMD INSTALL CNORfuzzy
###
##############################################################################
##############################################################################
* installing to library ‘/Library/Frameworks/R.framework/Versions/3.5/Resources/library’
* installing *source* package ‘CNORfuzzy’ ...
** libs
clang -I"/Library/Frameworks/R.framework/Resources/include" -DNDEBUG   -I/usr/local/include   -fPIC  -Wall -g -O2  -c simulatorT1.c -o simulatorT1.o
simulatorT1.c:320:28: warning: equality comparison with extraneous parentheses [-Wparentheses-equality]
            if((track_cond == nCond)) {
                ˜˜˜˜˜˜˜˜˜˜˜^˜˜˜˜˜˜˜
simulatorT1.c:320:28: note: remove extraneous parentheses around the comparison to silence this warning
            if((track_cond == nCond)) {
               ˜           ^       ˜
simulatorT1.c:320:28: note: use '=' to turn this equality comparison into an assignment
            if((track_cond == nCond)) {
                           ^˜
                           =
1 warning generated.
clang -dynamiclib -Wl,-headerpad_max_install_names -undefined dynamic_lookup -single_module -multiply_defined suppress -L/Library/Frameworks/R.framework/Resources/lib -L/usr/local/lib -o CNORfuzzy.so simulatorT1.o -F/Library/Frameworks/R.framework/.. -framework R -Wl,-framework -Wl,CoreFoundation
installing to /Library/Frameworks/R.framework/Versions/3.5/Resources/library/CNORfuzzy/libs
** R
** inst
** byte-compile and prepare package for lazy loading
** help
*** installing help indices
** building package indices
** installing vignettes
** testing if installed package can be loaded
* DONE (CNORfuzzy)